BEGIN:VCALENDAR
VERSION:2.0
PRODID:-//ChamberMaster//Event Calendar 2.0//EN
METHOD:PUBLISH
X-PUBLISHED-TTL:P3D
REFRESH-INTERVAL:P3D
CALSCALE:GREGORIAN
BEGIN:VEVENT
DTSTART:20200212T013000Z
DTEND:20200212T053000Z
X-MICROSOFT-CDO-ALLDAYEVENT:FALSE
SUMMARY:February 11\, 2020 - The Saheli Foundation Presents Dr. Shefali Tsabary in Surrey
DESCRIPTION:The Surrey Board of Trade is a SPONSOR ONLY of this event. This event is not hosted by the Surrey Board of Trade. Please contact the event hosts noted below for details.\n\n\n\nThe event is presented by The Saheli Foundation\n\n\n\nConscious Parenting with Dr. Shefali Tsabary in Surrey
X-ALT-DESC;FMTTYPE=text/html:<em>The Surrey Board of Trade is a SPONSOR ONLY of this event. This event is not hosted by the Surrey Board of Trade. Please contact the event hosts noted below for details.</em><br />\n<br />\nThe event is presented by The Saheli Foundation<br />\n<br />\nConscious Parenting with Dr. Shefali Tsabary in Surrey&nbsp\;
LOCATION:Sheraton Vancouver Guildford Hotel Surrey\, B.C. Canada
UID:e.749.10840
SEQUENCE:3
DTSTAMP:20260420T071806Z
URL:https://business.swrbot.com/events/details/february-11-2020-the-saheli-foundation-presents-dr-shefali-tsabary-in-surrey-02-11-2020-10840
END:VEVENT

END:VCALENDAR
