BEGIN:VCALENDAR
VERSION:2.0
PRODID:-//ChamberMaster//Event Calendar 2.0//EN
METHOD:PUBLISH
X-PUBLISHED-TTL:P3D
REFRESH-INTERVAL:P3D
CALSCALE:GREGORIAN
BEGIN:VEVENT
DTSTART;VALUE=DATE:20090212
DTEND;VALUE=DATE:20090213
TRANSP:TRANSPARENT
X-MICROSOFT-CDO-ALLDAYEVENT:TRUE
SUMMARY:February 12\, '09 - WCB & Employment Standards Workshop
DESCRIPTION:
X-ALT-DESC;FMTTYPE=text/html:
LOCATION:
UID:e.749.1487
SEQUENCE:3
DTSTAMP:20260423T212233Z
URL:https://business.swrbot.com/events/details/february-12-09-wcb-employment-standards-workshop-02-12-2009-1487
END:VEVENT

END:VCALENDAR
