BEGIN:VCALENDAR
VERSION:2.0
PRODID:-//ChamberMaster//Event Calendar 2.0//EN
METHOD:PUBLISH
X-PUBLISHED-TTL:P3D
REFRESH-INTERVAL:P3D
CALSCALE:GREGORIAN
BEGIN:VEVENT
DTSTART:20140212T154500Z
DTEND:20140212T180000Z
X-MICROSOFT-CDO-ALLDAYEVENT:FALSE
SUMMARY:February 12\, 2014 - Tax Planning for Small Business
DESCRIPTION:Tax Planning for Small business\n\n\n\nThe Canadian Tax System provides many tax planning opportunities for businesses\, but also contain traps for the unwary.  Effective tax planning should take full advantage of opportunities in the tax system such as available deductions\, optimizing your income\, and minimizing your taxes.  As each business situation is unique\, so too are it's tax planning needs.  This seminar will explore strategies used by tax planners to minimize taxes for businesses at various stages of their lives.\n\n\n\nPresented by MNP LLP.  With more than 70 offices across the country\, MNP has become one of the largest chartered accountancy and business consulting firms in Canada.
X-ALT-DESC;FMTTYPE=text/html:Tax Planning for Small business<br />\n<br />\nThe Canadian Tax System provides many tax planning opportunities for businesses\, but also contain traps for the unwary.&nbsp\; Effective tax planning should take full advantage of opportunities in the tax system such as available deductions\, optimizing your income\, and minimizing your taxes.&nbsp\; As each business situation is unique\, so too are it&#39\;s tax planning needs.&nbsp\; This seminar will explore strategies used by tax planners to minimize taxes for businesses at various stages of their lives.<br />\n<br />\nPresented by MNP LLP.&nbsp\; With more than 70 offices across the country\, MNP has become one of the largest chartered accountancy and business consulting firms in Canada.<br />\n
LOCATION:Surrey Board of Trade Conference Room 101 - 14439 104th Ave Surrey\, BC
UID:e.749.2541
SEQUENCE:3
DTSTAMP:20260426T011127Z
URL:https://business.swrbot.com/events/details/february-12-2014-tax-planning-for-small-business-02-12-2014-2541
END:VEVENT

END:VCALENDAR
