BEGIN:VCALENDAR
VERSION:2.0
PRODID:-//ChamberMaster//Event Calendar 2.0//EN
METHOD:PUBLISH
X-PUBLISHED-TTL:P3D
REFRESH-INTERVAL:P3D
CALSCALE:GREGORIAN
BEGIN:VEVENT
DTSTART:20200213T020000Z
DTEND:20200213T030000Z
X-MICROSOFT-CDO-ALLDAYEVENT:FALSE
SUMMARY:February 12\, 2020 - Newton Talks with Councillor Brenda Locke at DIVERSEcity
DESCRIPTION:The Surrey Board of Trade is a SPONSOR ONLY of this event. This event is not hosted by the Surrey Board of Trade. Please contact the event hosts noted below for details.\n\n\n\nCan you attend the February Newton Talks with Councillor Brenda Locke presented by Newton BIA and SBOT on Wednesday\, Feb 12\, 2020 at DIVERSEcity? This month's topic will focus on Social Infrastructure in Surrey and specifically homelessness. Please let me know if you can attend.\n\n\n\nDo you have questions and concerns about what's happening in the Newton Town Centre? Looking for a chance to connect with other businesses and organization in the town centre? Newton Talks is just the thing for you.\n\n\n\nNewton Talks is a monthly networking forum for the business community to establish a voice for Newton that improves business opportunities\, revitalize the area\, and creates a sustainable future for the community. Each month the discussion will focus on a different area of concern. This will be a open forum for you to bring up your questions and/or concerns regarding the Newton Town Centre.
X-ALT-DESC;FMTTYPE=text/html:<br />\n<em style="font-family: arial\; font-size: 12px\;">The Surrey Board of Trade is a SPONSOR ONLY of this event. This event is not hosted by the Surrey Board of Trade. Please contact the event hosts noted below for details.</em><br />\n<br />\n<span style="font-size:12px\;"><span style="font-family:arial\;"><span style="background:white none repeat scroll 0% 0%\;">Can you attend the </span><a href="https://www.eventbrite.ca/e/newton-talks-february-2020-tickets-91388093247"><strong><em><span style="background:white none repeat scroll 0% 0%\;">February Newton Talks with Councillor Brenda Locke</span></em></strong></a> presented by Newton BIA and SBOT on&nbsp\;<strong>Wednesday\, Feb 12\, 2020 at DIVERSEcity</strong>? This month&rsquo\;s topic will focus on Social Infrastructure in Surrey and specifically homelessness. Please let me know if you can attend.<br />\n<br />\nDo you have questions and concerns about what&#39\;s happening in the Newton Town Centre? Looking for a chance to connect with other businesses and organization in the town centre? Newton Talks is just the thing for you.<br />\n<br />\nNewton Talks is a monthly networking forum for the business community to establish a voice for Newton that improves business opportunities\, revitalize the area\, and creates a sustainable future for the community. Each month the discussion will focus on a different area of concern. This will be a open forum for you to bring up your questions and/or concerns regarding the Newton Town Centre.</span></span>
LOCATION:DIVERSEcity (13455 76 Ave\, Surrey\, BC V3W 2W3)
UID:e.749.10831
SEQUENCE:3
DTSTAMP:20260420T070215Z
URL:https://business.swrbot.com/events/details/february-12-2020-newton-talks-with-councillor-brenda-locke-at-diversecity-02-12-2020-10831
END:VEVENT

END:VCALENDAR
