BEGIN:VCALENDAR
VERSION:2.0
PRODID:-//ChamberMaster//Event Calendar 2.0//EN
METHOD:PUBLISH
X-PUBLISHED-TTL:P3D
REFRESH-INTERVAL:P3D
CALSCALE:GREGORIAN
BEGIN:VEVENT
DTSTART:20140214T013000Z
DTEND:20140214T033000Z
X-MICROSOFT-CDO-ALLDAYEVENT:FALSE
SUMMARY:February 13\, 2014 - Business to Business Networking at WorkBC
DESCRIPTION:Business to Business Networking Reception\n\n\n\nHosted by Fleetwood/Guildford Employment Services Centre (WorkBC)!\n\n\n\nNetwork with your fellow members while learning more about Pacific Community Resources Society and Surrey Fleetwood/Guildford WorkBC Employment Services Centre.  Learn about the value of our services to the business community and the work that is being done in the two Surrey communities.\n\n\n\nEnjoy delicious treats & refreshments\, and get tours of the site!
X-ALT-DESC;FMTTYPE=text/html:Business to Business Networking Reception<br />\n<br />\nHosted by Fleetwood/Guildford Employment Services Centre (WorkBC)!<br />\n<br />\nNetwork with your fellow members while learning more about Pacific Community Resources Society and Surrey Fleetwood/Guildford WorkBC Employment Services Centre.&nbsp\; Learn about the value of our services to the business community and the work that is being done in the two Surrey communities.<br />\n<br />\nEnjoy delicious treats &amp\; refreshments\, and get tours of the site!
LOCATION:WorkBC Employment Service Centre\, Fleetwood/Guildford 202 - 10334 152A St Surrey\, BC
UID:e.749.2422
SEQUENCE:3
DTSTAMP:20260426T022013Z
URL:https://business.swrbot.com/events/details/february-13-2014-business-to-business-networking-at-workbc-02-13-2014-2422
END:VEVENT

END:VCALENDAR
