BEGIN:VCALENDAR
VERSION:2.0
PRODID:-//ChamberMaster//Event Calendar 2.0//EN
METHOD:PUBLISH
X-PUBLISHED-TTL:P3D
REFRESH-INTERVAL:P3D
CALSCALE:GREGORIAN
BEGIN:VEVENT
DTSTART:20160216T193000Z
DTEND:20160216T213000Z
X-MICROSOFT-CDO-ALLDAYEVENT:FALSE
SUMMARY:February 16\, 2016 - Port Metro Vancouver CEO's Lunch
DESCRIPTION:How Surrey Contributes to Canada's Largest Port\n\n\n\nJoin Robin Silvester\, CEO of Port Metro Vancouver\, as he describes Surrey's growing role in Canada's global supply chain including our nation's largest port. Against a backdrop of population and trade growth\, he will explore opportunities for trade-enabling activity in Surrey\, navigating a course towards a sustainable future that addresses economic\, environmental and community concerns at the local\, regional\, and national levels.
X-ALT-DESC;FMTTYPE=text/html:<span style="font-size:18px\;"><strong><u>How Surrey Contributes to Canada&#39\;s Largest Port</u></strong></span><br />\n<br />\nJoin Robin Silvester\, CEO of Port Metro Vancouver\, as he describes Surrey&#39\;s growing role in Canada&#39\;s global supply chain including our nation&#39\;s largest port. Against a backdrop of population and trade growth\, he will explore opportunities for trade-enabling activity in Surrey\, navigating a course towards a sustainable future that addresses economic\, environmental and community concerns at the local\, regional\, and national levels.
LOCATION:Eaglequest Golf Course 7778 152 Street\, Surrey
UID:e.749.3640
SEQUENCE:3
DTSTAMP:20260424T033545Z
URL:https://business.swrbot.com/events/details/february-16-2016-port-metro-vancouver-ceo-s-lunch-02-16-2016-3640
END:VEVENT

END:VCALENDAR
