BEGIN:VCALENDAR
VERSION:2.0
PRODID:-//ChamberMaster//Event Calendar 2.0//EN
METHOD:PUBLISH
X-PUBLISHED-TTL:P3D
REFRESH-INTERVAL:P3D
CALSCALE:GREGORIAN
BEGIN:VEVENT
DTSTART:20110218T020000Z
DTEND:20110218T020000Z
X-MICROSOFT-CDO-ALLDAYEVENT:FALSE
SUMMARY:February 17\, 2011 - India Delegation Info Session
DESCRIPTION:SURREY BUSINESS LEADERS TRIP TO INDIA\n\n	INFORMATION SESSION\n\n	Delhi and Mumbai (including Agra and Jaipur)\n\n	 \n\n	If you are looking to do business in any industry in India or to simply experience the culture of India (also an important aspect of doing business in India)\, you want to attend this information session that will detail the itinerary for the\n\n	\n\n	April 12-21\, 2011 Surrey Business Leaders Trip to India\, hosted by the Surrey Board of Trade\n\n	\n\n	Industries that you may want to connect with are:\n\n	Textile\, Retail\, Software\, Cement\, Steel\, Auto\, Manufacturing\, Technology\, Salt\, Wine and more.\n\n	Business meetings/receptions will be set up in advance to departure. With the assistance of key partners in India such as our Chamber of Commerce colleagues in India\, meetings will be set up in advance.\n\n	The Business and Cultural experience is priced at $2790 + tax per person and the Tourist/Cultural Experience is priced at $2190 + tax per person. Price includes airfare\, accommodation\, daily buffet breakfast\, English speaking tour manager\, luggage handling and airport transfers.
X-ALT-DESC;FMTTYPE=text/html:<br />\n<div>\n	<strong>SURREY BUSINESS LEADERS TRIP TO INDIA<br />\n	INFORMATION SESSION</strong><br />\n	<em>Delhi and Mumbai (including Agra and Jaipur)</em><br />\n	&nbsp\;</div>\n<div>\n	If you are looking to do business in any industry in India or to simply experience the culture of India (also an important aspect of doing business in India)\, you want to attend this information session that will detail the itinerary for the</div>\n<div>\n	<br />\n	<strong><u>April 12-21\, 2011 Surrey Business Leaders Trip to India\, hosted by the Surrey Board of Trade</u></strong></div>\n<div>\n	<br />\n	<strong><u>Industries that you may want to connect with are:</u></strong><br />\n	Textile\, Retail\, Software\, Cement\, Steel\, Auto\, Manufacturing\, Technology\, Salt\, Wine and more.</div>\n<div>\n	Business meetings/receptions will be set up in advance to departure. With the assistance of key partners in India such as our Chamber of Commerce colleagues in India\, meetings will be set up in advance.</div>\n<div>\n	The Business and Cultural experience is priced at $2790 + tax per person and the Tourist/Cultural Experience is priced at $2190 + tax per person. Price includes airfare\, accommodation\, daily buffet breakfast\, English speaking tour manager\, luggage handling and airport transfers.</div>\n
LOCATION:Surrey Board of Trade Conference Room #101 - 14439 104 Avenue\, Surrey
UID:e.749.1747
SEQUENCE:3
DTSTAMP:20260422T061746Z
URL:https://business.swrbot.com/events/details/february-17-2011-india-delegation-info-session-02-17-2011-1747
END:VEVENT

END:VCALENDAR
