BEGIN:VCALENDAR
VERSION:2.0
PRODID:-//ChamberMaster//Event Calendar 2.0//EN
METHOD:PUBLISH
X-PUBLISHED-TTL:P3D
REFRESH-INTERVAL:P3D
CALSCALE:GREGORIAN
BEGIN:VEVENT
DTSTART:20140219T163000Z
DTEND:20140219T190000Z
X-MICROSOFT-CDO-ALLDAYEVENT:FALSE
SUMMARY:February 19\, 2014 - The Presidents' Roundtable
DESCRIPTION:THE PRESIDENTS" ROUNDTABLE\n\nHelping Leaders to Plan\, Grow and Suceed.\n\n\n\nA weekly forum for entrepreneurs to network\, share experiences\, compare strategies and learn best practices for resolving common challenges.\n\n\n\n"Not only is the Presidents Roundtable a wonderful networking opportunity\, but more importantly\, it enabled us to pinpoint much needed improvements in our business and how to get theses imporvement projects underway." \n\nMatt Mould\, P.Eng. MBA\, President -Sport Systems Canada Inc.\n\n	\n		Each session is facillitated by an experienced BDC Consultant and topic experts are invited to speak on specific subjects are required.\n	\n		Group discussions will follow these presentations where participants will share ideas and best practices with othe business owners.\n	\n		The program is designed to give the Owner/CEO practical tools and techniques to effectively manage their business.\n	\n		Key topics will include:\n\n                                - Strategic Planning\n\n                                - Sales and Marketing\n\n                                - Human Resources   \n\n                                - Financial Management\n\n                                - Additional topc to be selected by the participants\n\n\n\nIn Partnership with:\n\nSurrey Board of Trade
X-ALT-DESC;FMTTYPE=text/html:<strong>THE PRESIDENTS&quot\; ROUNDTABLE</strong><br />\nHelping Leaders to Plan\, Grow and Suceed.<br />\n<br />\nA weekly forum for entrepreneurs to network\, share experiences\, compare strategies and learn best practices for resolving common challenges.<br />\n<br />\n&quot\;Not only is the Presidents Roundtable a wonderful networking opportunity\, but more importantly\, it enabled us to pinpoint much needed improvements in our business and how to get theses imporvement projects underway.&quot\;&nbsp\;<br />\n<strong>Matt Mould\, P.Eng. MBA\, President -Sport Systems Canada Inc.</strong>\n<ul>\n	<li>\n		Each session is facillitated by an experienced BDC Consultant and topic experts are invited to speak on specific subjects are required.</li>\n	<li>\n		Group discussions will follow these presentations where participants will share ideas and best practices with othe business owners.</li>\n	<li>\n		The program is designed to give the Owner/CEO practical tools and techniques to effectively manage their business.</li>\n	<li>\n		Key topics will include:</li>\n</ul>\n&nbsp\;&nbsp\;&nbsp\; &nbsp\;&nbsp\;&nbsp\; &nbsp\;&nbsp\;&nbsp\; &nbsp\;&nbsp\;&nbsp\; &nbsp\;&nbsp\;&nbsp\; &nbsp\;&nbsp\;&nbsp\; &nbsp\;&nbsp\;&nbsp\; &nbsp\;&nbsp\;&nbsp\; - Strategic Planning<br />\n&nbsp\;&nbsp\;&nbsp\; &nbsp\;&nbsp\;&nbsp\; &nbsp\;&nbsp\;&nbsp\; &nbsp\;&nbsp\;&nbsp\; &nbsp\;&nbsp\;&nbsp\; &nbsp\;&nbsp\;&nbsp\; &nbsp\;&nbsp\;&nbsp\; &nbsp\;&nbsp\;&nbsp\; - Sales and Marketing<br />\n&nbsp\;&nbsp\;&nbsp\; &nbsp\;&nbsp\;&nbsp\; &nbsp\;&nbsp\;&nbsp\; &nbsp\;&nbsp\;&nbsp\; &nbsp\;&nbsp\;&nbsp\; &nbsp\;&nbsp\;&nbsp\; &nbsp\;&nbsp\;&nbsp\; &nbsp\;&nbsp\;&nbsp\; - Human Resources&nbsp\;&nbsp\;&nbsp\;<br />\n&nbsp\;&nbsp\;&nbsp\; &nbsp\;&nbsp\;&nbsp\; &nbsp\;&nbsp\;&nbsp\; &nbsp\;&nbsp\;&nbsp\; &nbsp\;&nbsp\;&nbsp\; &nbsp\;&nbsp\;&nbsp\; &nbsp\;&nbsp\;&nbsp\; &nbsp\;&nbsp\;&nbsp\; - Financial Management<br />\n&nbsp\;&nbsp\;&nbsp\; &nbsp\;&nbsp\;&nbsp\; &nbsp\;&nbsp\;&nbsp\; &nbsp\;&nbsp\;&nbsp\; &nbsp\;&nbsp\;&nbsp\; &nbsp\;&nbsp\;&nbsp\; &nbsp\;&nbsp\;&nbsp\; &nbsp\;&nbsp\;&nbsp\; - Additional topc to be selected by the participants<br />\n<br />\nIn Partnership with:<br />\nSurrey Board of Trade<br />\n&nbsp\;&nbsp\;&nbsp\;&nbsp\;&nbsp\;&nbsp\;&nbsp\;&nbsp\;&nbsp\;&nbsp\;&nbsp\;&nbsp\;&nbsp\;&nbsp\;&nbsp\;&nbsp\;&nbsp\;&nbsp\;&nbsp\;&nbsp\;&nbsp\;&nbsp\;&nbsp\;&nbsp\;&nbsp\;&nbsp\;&nbsp\;&nbsp\;&nbsp\;&nbsp\;&nbsp\;&nbsp\;&nbsp\;&nbsp\;&nbsp\;&nbsp\;&nbsp\;&nbsp\;&nbsp\;&nbsp\;&nbsp\;&nbsp\;&nbsp\;&nbsp\;&nbsp\;&nbsp\;&nbsp\; &nbsp\;&nbsp\;&nbsp\;<br />\n
LOCATION:BDC Fraser Valley Business Centre Boardroom 5577 153A Street\, Unit 301 Surrey\, BC
UID:e.749.2537
SEQUENCE:3
DTSTAMP:20260426T021857Z
URL:https://business.swrbot.com/events/details/february-19-2014-the-presidents-roundtable-02-19-2014-2537
END:VEVENT

END:VCALENDAR
