BEGIN:VCALENDAR
VERSION:2.0
PRODID:-//ChamberMaster//Event Calendar 2.0//EN
METHOD:PUBLISH
X-PUBLISHED-TTL:P3D
REFRESH-INTERVAL:P3D
CALSCALE:GREGORIAN
BEGIN:VEVENT
DTSTART:20160202T154500Z
DTEND:20160202T173000Z
X-MICROSOFT-CDO-ALLDAYEVENT:FALSE
SUMMARY:February 2\, 2016 - Fleetwood Crime and Business Breakfast
DESCRIPTION:
X-ALT-DESC;FMTTYPE=text/html:
LOCATION:Fleetwood Villa Retirement Residence 3rd Floor Dining Room\, 16028 - 83rd Avenue\, Surrey
UID:e.749.3752
SEQUENCE:3
DTSTAMP:20260424T033700Z
URL:https://business.swrbot.com/events/details/february-2-2016-fleetwood-crime-and-business-breakfast-02-02-2016-3752
END:VEVENT

END:VCALENDAR
