BEGIN:VCALENDAR
VERSION:2.0
PRODID:-//ChamberMaster//Event Calendar 2.0//EN
METHOD:PUBLISH
X-PUBLISHED-TTL:P3D
REFRESH-INTERVAL:P3D
CALSCALE:GREGORIAN
BEGIN:VEVENT
DTSTART:20140221T153000Z
DTEND:20140221T173000Z
X-MICROSOFT-CDO-ALLDAYEVENT:FALSE
SUMMARY:February 21\, 2014 - Crime Reduction Breakfast - Ocean Park
DESCRIPTION:Crime Reduction Breakfast - Ocean Park
X-ALT-DESC;FMTTYPE=text/html:Crime Reduction Breakfast - Ocean Park
LOCATION:Ocean Park Village Pub 12822 - 16 ave Surrey\, BC
UID:e.749.2570
SEQUENCE:3
DTSTAMP:20260426T011054Z
URL:https://business.swrbot.com/events/details/february-21-2014-crime-reduction-breakfast-ocean-park-02-21-2014-2570
END:VEVENT

END:VCALENDAR
