BEGIN:VCALENDAR
VERSION:2.0
PRODID:-//ChamberMaster//Event Calendar 2.0//EN
METHOD:PUBLISH
X-PUBLISHED-TTL:P3D
REFRESH-INTERVAL:P3D
CALSCALE:GREGORIAN
BEGIN:VEVENT
DTSTART:20170223T020000Z
DTEND:20170223T033000Z
X-MICROSOFT-CDO-ALLDAYEVENT:FALSE
SUMMARY:February 22\, 2017 - Business to Business Networking at Landmark Cinemas
DESCRIPTION:Join us for an evening of networking with Surrey's business community in one of the newly renovated auditoriums at Landmark Cinemas Guildford!\n\n\n\nCome and enjoy what Landmark has to offer:\n\n\n\n  Imagine the results of advertising your brand on the big screen\n\n  Enjoy the comfort of their full power recliners\, whether for a private screening or corporate meeting\n\n  We are all Movie Lovers. Share the experience with your employees or clients with a variety of corporate products.\n\n\n\nAnd of course\, enjoy the show! Stay for popcorn\, a drink and special screening following the networking event!
X-ALT-DESC;FMTTYPE=text/html:Join us for an evening of networking with Surrey&rsquo\;s business community in one of the newly renovated auditoriums at Landmark Cinemas Guildford!<br />\n<br />\nCome and enjoy what Landmark has to offer:<br />\n<br />\n&bull\; Imagine the results of advertising your brand on the big screen<br />\n&bull\; Enjoy the comfort of their full power recliners\, whether for a private screening or corporate meeting<br />\n&bull\; We are all Movie Lovers. Share the experience with your employees or clients with a variety of corporate products.<br />\n<br />\nAnd of course\, enjoy the show! Stay for popcorn\, a drink and special screening following the networking event!
LOCATION:Landmark Cinemas 15051 101 Avenue Surrey\, BC
UID:e.749.4937
SEQUENCE:3
DTSTAMP:20260422T045144Z
URL:https://business.swrbot.com/events/details/february-22-2017-business-to-business-networking-at-landmark-cinemas-02-22-2017-4937
END:VEVENT

END:VCALENDAR
