BEGIN:VCALENDAR
VERSION:2.0
PRODID:-//ChamberMaster//Event Calendar 2.0//EN
METHOD:PUBLISH
X-PUBLISHED-TTL:P3D
REFRESH-INTERVAL:P3D
CALSCALE:GREGORIAN
BEGIN:VEVENT
DTSTART:20170222T154500Z
DTEND:20170222T180000Z
X-MICROSOFT-CDO-ALLDAYEVENT:FALSE
SUMMARY:February 22\, 2017 - How to Recover 10-20% Additional Cash Flow from Your Supplier Base
DESCRIPTION:Finding extra cash flow within your supplier base and putting it back to work in your business. Are you already doing a good job of managing expenses? Is it possible that you're still leaving money on the table? Are you curious to know if you are\, how much\, and how to get it? What could you put that additional cash flow towards for your business? Join us at this workshop to learn:\n\n	Why most companies are still over-paying suppliers by 10-30%\n	How the basic supplier-customer set-up promotes it\n	The top 10 most common misconceptions in working with suppliers\n	The top 10 best practices in world-class expense management\n\nThis session is facilitated by Matt Pritchard of Expense Reduction Analysts.
X-ALT-DESC;FMTTYPE=text/html:Finding extra cash flow within your supplier base and putting it back to work in your business. Are you already doing a good job of managing expenses? Is it possible that you&#39\;re still leaving money on the table? Are you curious to know if you are\, how much\, and how to get it? What could you put that additional cash flow towards for your business? Join us at this workshop to learn:\n<ul>\n	<li>Why most companies are still over-paying suppliers by 10-30%</li>\n	<li>How the basic supplier-customer set-up promotes it</li>\n	<li>The top 10 most common misconceptions in working with suppliers</li>\n	<li>The top 10 best practices in world-class expense management</li>\n</ul>\n<i><b>This session is facilitated by Matt Pritchard of Expense Reduction Analysts. </b></i>
LOCATION:Surrey Board of Trade Office 101\, 14439 104th Ave\, Surrey
UID:e.749.5221
SEQUENCE:3
DTSTAMP:20260422T045109Z
URL:https://business.swrbot.com/events/details/february-22-2017-how-to-recover-10-20-additional-cash-flow-from-your-supplier-base-02-22-2017-5221
END:VEVENT

END:VCALENDAR
