BEGIN:VCALENDAR
VERSION:2.0
PRODID:-//ChamberMaster//Event Calendar 2.0//EN
METHOD:PUBLISH
X-PUBLISHED-TTL:P3D
REFRESH-INTERVAL:P3D
CALSCALE:GREGORIAN
BEGIN:VEVENT
DTSTART:20110223T200000Z
DTEND:20110223T213000Z
X-MICROSOFT-CDO-ALLDAYEVENT:FALSE
SUMMARY:February 23\, 2011 - Provincial Post-Budget Update with Minister Colin Hansen
DESCRIPTION:MINISTER OF FINANCE AND DEPUTY PREMIER COLIN HANSEN\n\n\n\nThe Provincial Budget is released.\n\nWhat does this mean to business and the provincial economy right now?\n\n \n\nFind out at this luncheon.\n\n \n\nRegister early!\n\nSeats will be sold out.
X-ALT-DESC;FMTTYPE=text/html:<span style="font-size: 12px\;"><strong>MINISTER OF FINANCE AND DEPUTY PREMIER COLIN HANSEN</strong><br />\n<br />\nThe Provincial Budget is released.<br />\nWhat does this mean to business and the provincial economy right now?<br />\n&nbsp\;<br />\nFind out at this luncheon.<br />\n&nbsp\;<br />\nRegister early!<br />\nSeats will be sold out.</span>
LOCATION:Eaglequest Golf Course 7778 152 Street\, Surrey
UID:e.749.1796
SEQUENCE:3
DTSTAMP:20260422T062026Z
URL:https://business.swrbot.com/events/details/february-23-2011-provincial-post-budget-update-with-minister-colin-hansen-02-23-2011-1796
END:VEVENT

END:VCALENDAR
