BEGIN:VCALENDAR
VERSION:2.0
PRODID:-//ChamberMaster//Event Calendar 2.0//EN
METHOD:PUBLISH
X-PUBLISHED-TTL:P3D
REFRESH-INTERVAL:P3D
CALSCALE:GREGORIAN
BEGIN:VEVENT
DTSTART:20160225T013000Z
DTEND:20160225T033000Z
X-MICROSOFT-CDO-ALLDAYEVENT:FALSE
SUMMARY:February 24\, 2015 - Business to Business Networking Reception at BC Family Hearing Resource Society
DESCRIPTION:Every year\, 3 - 4 out of every 1\,000 babies born in BC will be diagnosed with hearing loss or deafness.\n\n\n\nBC Family Hearing Resource Society is the largest non-profit in the province that provides services to children from birth to age five with deafness\, hearing loss and/or speech and language communication challenges. Their mission is to help each child reach their fullest communication potential through family-centered\, early intervention services.\n\n\n\n  Network with business contacts while touring their\n\nstate-of-the-art facility!\n\n  Learn about theirwide range of services with their\n\ncombined expertise of highly skilled interventionists\,\n\ninnovation and technology to meet the needs of infants\,\n\ntoddlers and preschool aged children.\n\n  Enjoy appetizers and refreshments!\n\n\n\nWin Great Prizes! Make new business contacts!
X-ALT-DESC;FMTTYPE=text/html:Every year\, 3 - 4 out of every 1\,000 babies born in BC will be diagnosed with hearing loss or deafness.<br />\n<br />\nBC Family Hearing Resource Society is the largest non-profit in the province that provides services to children from birth to age five with deafness\, hearing loss and/or speech and language communication challenges. Their mission is to help each child reach their fullest communication potential through family-centered\, early intervention services.<br />\n<br />\n&bull\; Network with business contacts while touring their<br />\nstate-of-the-art facility!<br />\n&bull\; Learn about theirwide range of services with their<br />\ncombined expertise of highly skilled interventionists\,<br />\ninnovation and technology to meet the needs of infants\,<br />\ntoddlers and preschool aged children.<br />\n&bull\; Enjoy appetizers and refreshments!<br />\n<br />\n<strong>Win Great Prizes! Make new business contacts!</strong>
LOCATION:BC Family Hearing Resource Society 15220 92 Avenue\, Surrey - on the corner of 92 Ave and 152 St
UID:e.749.3679
SEQUENCE:3
DTSTAMP:20260424T033822Z
URL:https://business.swrbot.com/events/details/february-24-2015-business-to-business-networking-reception-at-bc-family-hearing-resource-society-02-24-2016-3679
END:VEVENT

END:VCALENDAR
