BEGIN:VCALENDAR
VERSION:2.0
PRODID:-//ChamberMaster//Event Calendar 2.0//EN
METHOD:PUBLISH
X-PUBLISHED-TTL:P3D
REFRESH-INTERVAL:P3D
CALSCALE:GREGORIAN
BEGIN:VEVENT
DTSTART:20140225T160000Z
DTEND:20140225T180000Z
X-MICROSOFT-CDO-ALLDAYEVENT:FALSE
SUMMARY:February 25\, 2014 - Canada's Anti-Spam Legislation
DESCRIPTION:Canada's Anti-Spam Legislation - What Does My Business Need To Do?\n\n\n\nCanada has enacted the most onerous anti-spam laws in the world as of July 1\, 2014.  The penalties for non-compliance can be extreme - up to $10 million.  The restrictions on electronic communications will impact every corner of your business - marketing\, sales\, human resources and operations!  Find out what your business needs to have in place to ensure a smooth continuation of your business after the CASL comes into force.
X-ALT-DESC;FMTTYPE=text/html:Canada&#39\;s Anti-Spam Legislation - What Does My Business Need To Do?<br />\n<br />\nCanada has enacted the most onerous anti-spam laws in the world as of July 1\, 2014.&nbsp\; The penalties for non-compliance can be extreme - up to $10 million.&nbsp\; The restrictions on electronic communications will impact every corner of your business - marketing\, sales\, human resources and operations!&nbsp\; Find out what your business needs to have in place to ensure a smooth continuation of your business after the CASL comes into force.
LOCATION:Surrey Board of Trade Conference Room 101 - 14439 104th Ave Surrey\, BC
UID:e.749.2549
SEQUENCE:3
DTSTAMP:20260426T011010Z
URL:https://business.swrbot.com/events/details/february-25-2014-canada-s-anti-spam-legislation-02-25-2014-2549
END:VEVENT

END:VCALENDAR
