BEGIN:VCALENDAR
VERSION:2.0
PRODID:-//ChamberMaster//Event Calendar 2.0//EN
METHOD:PUBLISH
X-PUBLISHED-TTL:P3D
REFRESH-INTERVAL:P3D
CALSCALE:GREGORIAN
BEGIN:VEVENT
DTSTART:20200227T010000Z
DTEND:20200227T030000Z
X-MICROSOFT-CDO-ALLDAYEVENT:FALSE
SUMMARY:February 26\, 2020 - Business Networking Reception Hosted by F12.net
DESCRIPTION:Enjoy appetizers and drinks\, make new business contacts\, and win prizes! Join the Surrey Board of Trade and Startup Surrey for an evening of networking and fun hosted by F12.net! \n\n \nConsider IT done. F12.net is a leading provider of comprehensive IT programs for organizations striving to embrace technology's benefits\, not its complexities. Their mission is to improve your productivity\, scalability\, and security with less time and capital. Their fully-managed\, give-back-your-freedom\, set-it-and-forget-it suite of IT support and services has got your back.\n\n \n\nFor more information about F12\, visit www.F12.net
X-ALT-DESC;FMTTYPE=text/html:Enjoy appetizers and drinks\, make new business contacts\, and win prizes! <span style="font-size: 13px\; background-color: rgb(255\, 255\, 255)\; color: rgb(51\, 51\, 51)\; font-family: sans-serif\, Arial\, Verdana\, &quot\;Trebuchet MS&quot\;\;">Join the Surrey Board of Trade and Startup Surrey for an evening of networking and fun hosted by F12.net!&nbsp\;</span><br />\n&nbsp\;\n<p style="margin: 0px\; font-size: 11pt\; color: rgb(32\, 31\, 30)\; font-family: Calibri\, sans-serif\;"><span style="margin: 0px\; font-size: 12pt\; font-family: Montserrat\;">Consider IT done. F12.<span class="il">net</span>&nbsp\;is a leading provider of comprehensive IT programs for organizations striving to embrace technology&rsquo\;s benefits\, not its complexities. Their&nbsp\;mission is to improve your productivity\, scalability\, and security with less time and capital. Their&nbsp\;fully-managed\, give-back-your-freedom\, set-it-and-forget-it suite of IT support and services has got your back.</span></p>\n\n<p style="margin: 0px\; font-size: 11pt\; color: rgb(32\, 31\, 30)\; font-family: Calibri\, sans-serif\;"><span style="margin: 0px\; font-family: -webkit-standard\;">&nbsp\;</span></p>\n\n<p style="margin: 0px\; font-size: 11pt\; color: rgb(32\, 31\, 30)\; font-family: Calibri\, sans-serif\;"><span style="margin: 0px\; font-size: 12pt\; font-family: Montserrat\;">For more information about F12\, visit&nbsp\;</span><span style="margin: 0px\; font-family: -webkit-standard\;"><span style="margin: 0px\; font-size: 12pt\; font-family: Montserrat\;"><a data-saferedirecturl="https://www.google.com/url?q=https://can01.safelinks.protection.outlook.com/?url%3Dhttp%253A%252F%252Fwww.f12.net%252F%26data%3D02%257C01%257CBRichardson%2540f12.net%257C7e82cfe74bb846548b2508d715ce6d08%257C8fe0f2e8edc34b1faa86fed8d664ba82%257C0%257C0%257C637001848694361688%26sdata%3D0sWdXPGVgoKv7P8tdT5%252B4bI%252FKtzJD%252BQWXTee5KapN3g%253D%26reserved%3D0&amp\;source=gmail&amp\;ust=1578608756821000&amp\;usg=AFQjCNH8NOTU2_CpeWs4YR0k1ikeyCLbTw" href="https://can01.safelinks.protection.outlook.com/?url=http%3A%2F%2Fwww.f12.net%2F&amp\;data=02%7C01%7CBRichardson%40f12.net%7C7e82cfe74bb846548b2508d715ce6d08%7C8fe0f2e8edc34b1faa86fed8d664ba82%7C0%7C0%7C637001848694361688&amp\;sdata=0sWdXPGVgoKv7P8tdT5%2B4bI%2FKtzJD%2BQWXTee5KapN3g%3D&amp\;reserved=0" rel="noopener noreferrer" style="color: rgb(17\, 85\, 204)\; margin: 0px\;" target="_blank">www.F12.<span class="il">net</span></a></span></span></p>\n\n<div>&nbsp\;</div>\n
LOCATION:F12.net (200-17577 56 Ave Surrey\, BC V3S 1C4)
UID:e.749.10872
SEQUENCE:3
DTSTAMP:20260420T070036Z
URL:https://business.swrbot.com/events/details/february-26-2020-business-networking-reception-hosted-by-f12-net-02-26-2020-10872
END:VEVENT

END:VCALENDAR
