BEGIN:VCALENDAR
VERSION:2.0
PRODID:-//ChamberMaster//Event Calendar 2.0//EN
METHOD:PUBLISH
X-PUBLISHED-TTL:P3D
REFRESH-INTERVAL:P3D
CALSCALE:GREGORIAN
BEGIN:VEVENT
DTSTART:20180228T020000Z
DTEND:20180228T040000Z
X-MICROSOFT-CDO-ALLDAYEVENT:FALSE
SUMMARY:February 27\, 2018 - Business to Business at The Flamingo
DESCRIPTION:Join us for an evening of networking with the members of your community! The Flamingo is a unique venue in the heart of Whalley which has reopened three live music and event venues after being closed for a year.\n\n\n\nDavid Geertz and the Penmar Community Arts Society have partnered with the Flamingo property owner and developer Charan Sethi of Tien Sher\, to help create an arts and culture hub at the Flamingo\, which is located in the 108 block of King George Boulevard in Surrey\, BC.\n\n\n\nLearn about their plans for the future of the Flamingo and the neighborhood over cocktails and hors d'oeuvres.You will also get a chance to tour all of the venues during the reception.\n\n\n	Hear great music\n	Make new business contacts \n	Tour the Flamingo venues\n	Win prizes!
X-ALT-DESC;FMTTYPE=text/html:<p class="p2"><span style="color:#000000\;"><span style="font-size:12px\;"><span style="font-family:arial\;">Join us for an evening of networking with the members of your community! The Flamingo is a unique venue in the heart of Whalley which has reopened three live music and event venues after being closed for a year.<br />\n<br />\n<span style="background-image:initial\;background-position:initial\;background-size:initial\;background-repeat:initial\;background-attachment:initial\;background-origin:initial\;background-clip:initial\;">David Geertz and the Penmar Community Arts Society have partnered with the Flamingo property owner and developer Charan Sethi of Tien Sher</span></span></span></span><span style="font-family:arial\,helvetica\,sans-serif\;"><span style="background-image:initial\;background-position:initial\;background-size:initial\;background-repeat:initial\;background-attachment:initial\;background-origin:initial\;background-clip:initial\;"><span style="color:#000000\;"><span style="font-size:12px\;"><span style="font-family:arial\;">\, to</span></span></span></span></span><span style="color:#000000\;"><span style="font-size:12px\;"><span style="font-family:arial\;"><span style="background-image:initial\;background-position:initial\;background-size:initial\;background-repeat:initial\;background-attachment:initial\;background-origin:initial\;background-clip:initial\;">&nbsp\;help create an arts and culture hub at the Flamingo\, which is located in the 108 block of King George Boulevard in Surrey\, BC.</span><br />\n<br />\n<span style="border:1pt none windowtext\;padding:0cm\;">Learn about their plans for the future of the Flamingo and the neighborhood over cocktails and hors d&rsquo\;oeuvres.You will also get a chance to tour all of the venues during the reception.</span></span></span></span></p>\n\n<ul>\n	<li class="p2"><span style="color: rgb(0\, 0\, 0)\; font-family: arial\; font-size: 12px\;">Hear great music</span></li>\n	<li class="p2"><span style="color:#000000\;"><span style="font-size:12px\;"><span style="font-family:arial\;"><span style="border:1pt none windowtext\;padding:0cm\;"><span style="color:#000000\;"><span style="font-size:12px\;"><span style="font-family:arial\;"><span style="border:1pt none windowtext\;padding:0cm\;">Make new business contacts </span></span></span></span></span></span></span></span></li>\n	<li class="p2"><span style="color:#000000\;"><span style="font-size:12px\;"><span style="font-family:arial\;"><span style="border:1pt none windowtext\;padding:0cm\;"><span style="color:#000000\;"><span style="font-size:12px\;"><span style="font-family:arial\;"><span style="border:1pt none windowtext\;padding:0cm\;"><span style="color:#000000\;"><span style="font-size:12px\;"><span style="font-family:arial\;"><span style="border:1pt none windowtext\;padding:0cm\;">Tour the Flamingo venues</span></span></span></span></span></span></span></span></span></span></span></span></li>\n	<li class="p2"><span style="color:#000000\;"><span style="font-size:12px\;"><span style="font-family:arial\;"><span style="border:1pt none windowtext\;padding:0cm\;"><span style="color:#000000\;"><span style="font-size:12px\;"><span style="font-family:arial\;"><span style="border:1pt none windowtext\;padding:0cm\;"><span style="color:#000000\;"><span style="font-size:12px\;"><span style="font-family:arial\;"><span style="border:1pt none windowtext\;padding:0cm\;">Win prizes!</span></span></span></span></span></span></span></span></span></span></span></span></li>\n</ul>\n
LOCATION:The Flamingo 10768 King George Blvd. Surrey\, BC
UID:e.749.6680
SEQUENCE:3
DTSTAMP:20260421T141743Z
URL:https://business.swrbot.com/events/details/february-27-2018-business-to-business-at-the-flamingo-02-27-2018-6680
END:VEVENT

END:VCALENDAR
