BEGIN:VCALENDAR
VERSION:2.0
PRODID:-//ChamberMaster//Event Calendar 2.0//EN
METHOD:PUBLISH
X-PUBLISHED-TTL:P3D
REFRESH-INTERVAL:P3D
CALSCALE:GREGORIAN
BEGIN:VEVENT
DTSTART:20170228T154500Z
DTEND:20170228T180000Z
X-MICROSOFT-CDO-ALLDAYEVENT:FALSE
SUMMARY:February 28\, 2017 - Focused Execution: How to Get the Right Work Done
DESCRIPTION:It's no longer about time management. It's about focus management. At this workshop\, Scott highlights the distractions that get in the way of doing our most important work. Through real-world examples and a healthy dose of humour\, you will learn how to optimize your to-do list and organize your schedule for maximum clarity. For any professional seeking to create better habits that produce immediate results\, Focused Execution is a fun and invaluable experience.\n\n\n\nIn this session you will learn:\n\n	How to reduce distractions and recurring interruptions\n	Why multitasking negatively affects your productivity\n	To break overwhelming projects into manageable pieces\n	How to develop a weekly routine to identify your most important work\n	To create a meaningful task list by using the '2-Do' list method\n	How to create a system for capturing new ideas and lingering issues\n\nThis workshop is facilitated by Scott Friesen of Simpletivity Training & Consulting.
X-ALT-DESC;FMTTYPE=text/html:It&rsquo\;s no longer about time management. It&rsquo\;s about focus management. At this workshop\, Scott highlights the distractions that get in the way of doing our most important work. Through real-world examples and a healthy dose of humour\, you will learn how to optimize your to-do list and organize your schedule for maximum clarity. For any professional seeking to create better habits that produce immediate results\, Focused Execution is a fun and invaluable experience.<br />\n<br />\nIn this session you will learn:\n<ul>\n	<li>How to reduce distractions and recurring interruptions</li>\n	<li>Why multitasking negatively affects your productivity</li>\n	<li>To break overwhelming projects into manageable pieces</li>\n	<li>How to develop a weekly routine to identify your most important work</li>\n	<li>To create a meaningful task list by using the &lsquo\;2-Do&rsquo\; list method</li>\n	<li>How to create a system for capturing new ideas and lingering issues</li>\n</ul>\n<i><b>This workshop is facilitated by Scott <span class="m_8568409268570308639gmail-scayt-misspell-word">Friesen</span> of <a data-saferedirecturl="https://www.google.com/url?hl=en&amp\;q=http://www.simpletivity.com/&amp\;source=gmail&amp\;ust=1483828534129000&amp\;usg=AFQjCNGc4IKtatl9uhAkI0lOuEM-YSEoGg" href="http://www.simpletivity.com/" target="_blank"><span class="m_8568409268570308639gmail-scayt-misspell-word">Simpletivity</span></a> Training &amp\; Consulting. </b></i>
LOCATION:Surrey Board of Trade 101\, 14439 104th Ave\, Surrey
UID:e.749.5222
SEQUENCE:3
DTSTAMP:20260422T044453Z
URL:https://business.swrbot.com/events/details/february-28-2017-focused-execution-how-to-get-the-right-work-done-02-28-2017-5222
END:VEVENT

END:VCALENDAR
