BEGIN:VCALENDAR
VERSION:2.0
PRODID:-//ChamberMaster//Event Calendar 2.0//EN
METHOD:PUBLISH
X-PUBLISHED-TTL:P3D
REFRESH-INTERVAL:P3D
CALSCALE:GREGORIAN
BEGIN:VEVENT
DTSTART:20180228T154500Z
DTEND:20180228T180000Z
X-MICROSOFT-CDO-ALLDAYEVENT:FALSE
SUMMARY:February 28\, 2018 - Estate Planning: a Guide to Protecting Your Legacy - Workshop
DESCRIPTION:Creating a Will and Estate Plan is extremely important for people who are concerned about leaving property for the people and organizations they care about. Join us at this Estate Planning Workshop to learn the various legal\, accounting\, and financial considerations in having an estate plan while protecting your business and personal assets.\n\n \n\nIn this workshop you will learn:\n\n\n	The benefits for having a Will and an Estate Plan in place\n	The roles of executors\, probate fees and the type of assets that are taxed at one's death\n	Types of Estate Trusts\n	As a business owner\, funding mechanisms to cover estate tax without losing the working capital you need for your business \n\nThis workshop is presented by the following field experts:\n\n\n	Sasha Ramnarine\, Lawyer at Remedios & Company\n	Sonia Parmar\, Senior Manager at David Pel & Company\n	Jamal Khan\, Author and Founder of Jamal Khan Financial Group\n\n\nBook your seat now!
X-ALT-DESC;FMTTYPE=text/html:<p style="color: rgb(34\, 34\, 34)\; font-family: Arial\; font-size: 13.3333px\; background-color: rgb(255\, 255\, 255)\;"><span style="font-size: 12px\;"><span style="font-family: arial\;"><span style="border: 1pt none windowtext\; padding: 0cm\; background-image: none\; background-position: 0% 0%\; background-size: initial\; background-repeat: repeat\; background-attachment: scroll\; background-origin: initial\; background-clip: initial\;"><span style="color: rgb(10\, 10\, 10)\;">Creating a Will and Estate Plan is extremely important for people who are concerned about leaving property for the people and organizations they care about. Join us at this Estate Planning Workshop to learn the various legal\, accounting\, and financial considerations in having an estate plan while protecting your business and personal assets.</span></span><br />\n&nbsp\;<br />\n<span style="border: 1pt none windowtext\; padding: 0cm\; background-image: none\; background-position: 0% 0%\; background-size: initial\; background-repeat: repeat\; background-attachment: scroll\; background-origin: initial\; background-clip: initial\;"><span style="color: rgb(10\, 10\, 10)\;">In this workshop you will learn:</span></span></span></span></p>\n\n<ul style="color: rgb(34\, 34\, 34)\; font-family: Arial\; font-size: 13.3333px\; background-color: rgb(255\, 255\, 255)\;">\n	<li style="margin-left: 15px\; font-size: 12pt\; font-family: Cambria\;"><span style="font-size: 12px\;"><span style="font-family: arial\;"><span style="border: 1pt none windowtext\; padding: 0cm\; background-image: none\; background-position: 0% 0%\; background-size: initial\; background-repeat: repeat\; background-attachment: scroll\; background-origin: initial\; background-clip: initial\;"><span style="color: rgb(10\, 10\, 10)\;">The benefits for having a Will and an Estate Plan in place</span></span></span></span></li>\n	<li style="margin-left: 15px\; font-size: 12pt\; font-family: Cambria\;"><span style="font-size: 12px\;"><span style="font-family: arial\;"><span style="border: 1pt none windowtext\; padding: 0cm\; background-image: none\; background-position: 0% 0%\; background-size: initial\; background-repeat: repeat\; background-attachment: scroll\; background-origin: initial\; background-clip: initial\;"><span style="color: rgb(10\, 10\, 10)\;">The&nbsp\;</span></span><span style="background-image: none\; background-position: 0% 0%\; background-size: initial\; background-repeat: repeat\; background-attachment: scroll\; background-origin: initial\; background-clip: initial\;"><span style="color: rgb(10\, 10\, 10)\;">roles of executors\, p</span></span><span style="border: 1pt none windowtext\; padding: 0cm\; background-image: none\; background-position: 0% 0%\; background-size: initial\; background-repeat: repeat\; background-attachment: scroll\; background-origin: initial\; background-clip: initial\;"><span style="color: rgb(10\, 10\, 10)\;">robate fees and the type of assets that are taxed at one&rsquo\;s death</span></span></span></span></li>\n	<li style="margin-left: 15px\; font-size: 12pt\; font-family: Cambria\;"><span style="font-size: 12px\;"><span style="font-family: arial\;"><span style="border: 1pt none windowtext\; padding: 0cm\; background-image: none\; background-position: 0% 0%\; background-size: initial\; background-repeat: repeat\; background-attachment: scroll\; background-origin: initial\; background-clip: initial\;"><span style="color: rgb(10\, 10\, 10)\;">Types of Estate Trusts</span></span></span></span></li>\n	<li style="margin-left: 15px\; font-size: 12pt\; font-family: Cambria\;"><span style="font-size: 12px\;"><span style="font-family: arial\;"><span style="border: 1pt none windowtext\; padding: 0cm\; background-image: none\; background-position: 0% 0%\; background-size: initial\; background-repeat: repeat\; background-attachment: scroll\; background-origin: initial\; background-clip: initial\;"><span style="color: rgb(10\, 10\, 10)\;">As a business owner\, funding mechanisms to cover estate tax without losing the working capital you need for your business&nbsp\;</span></span></span></span></li>\n</ul>\n<span style="color: rgb(34\, 34\, 34)\; font-family: Arial\; background-color: rgb(255\, 255\, 255)\; font-size: 12px\;"><span style="font-family: arial\;"><span style="border: 1pt none windowtext\; padding: 0cm\; background-image: none\; background-position: 0% 0%\; background-size: initial\; background-repeat: repeat\; background-attachment: scroll\; background-origin: initial\; background-clip: initial\;"><span style="color: rgb(10\, 10\, 10)\;">This workshop is presented by the following field experts:</span></span></span></span>\n\n<ul style="color: rgb(34\, 34\, 34)\; font-family: Arial\; font-size: 13.3333px\; background-color: rgb(255\, 255\, 255)\;">\n	<li style="margin-left: 15px\; font-size: 12pt\; font-family: Cambria\;"><span style="font-size: 12px\;"><span style="font-family: arial\;"><a data-saferedirecturl="https://www.google.com/url?hl=en&amp\;q=http://www.remedios.lawyer/&amp\;source=gmail&amp\;ust=1518648915684000&amp\;usg=AFQjCNEuzVtJc9VQ8Uptb8InkuUCpScpJg" href="http://www.remedios.lawyer/" style="color: rgb(17\, 85\, 204)\;" target="_blank"><span style="border: 1pt none windowtext\; padding: 0cm\; background-image: none\; background-position: 0% 0%\; background-size: initial\; background-repeat: repeat\; background-attachment: scroll\; background-origin: initial\; background-clip: initial\;"><span style="color: rgb(10\, 10\, 10)\;">Sasha Ramnarine\, Lawyer at Remedios &amp\; Company</span></span></a></span></span></li>\n	<li style="margin-left: 15px\; font-size: 12pt\; font-family: Cambria\;"><span style="font-size: 12px\;"><span style="font-family: arial\;"><a data-saferedirecturl="https://www.google.com/url?hl=en&amp\;q=http://davidpelandcompany.com/&amp\;source=gmail&amp\;ust=1518648915684000&amp\;usg=AFQjCNF1wekq8Ls5EIinJw1hcKq9-gCE-Q" href="http://davidpelandcompany.com/" style="color: rgb(17\, 85\, 204)\;" target="_blank"><span style="border: 1pt none windowtext\; padding: 0cm\; background-image: none\; background-position: 0% 0%\; background-size: initial\; background-repeat: repeat\; background-attachment: scroll\; background-origin: initial\; background-clip: initial\;"><span style="color: rgb(10\, 10\, 10)\;">Sonia Parmar\, Senior Manager at David Pel &amp\; Company</span></span></a></span></span></li>\n	<li style="margin-left: 15px\; font-size: 12pt\; font-family: Cambria\;"><span style="font-size: 12px\;"><span style="font-family: arial\;"><a data-saferedirecturl="https://www.google.com/url?hl=en&amp\;q=http://jamalkhanfinancialgroup.com/&amp\;source=gmail&amp\;ust=1518648915684000&amp\;usg=AFQjCNHhgQyW1-7x7j0qeQoPb1acaxGjRA" href="http://jamalkhanfinancialgroup.com/" style="color: rgb(17\, 85\, 204)\;" target="_blank"><span style="border: 1pt none windowtext\; padding: 0cm\; background-image: none\; background-position: 0% 0%\; background-size: initial\; background-repeat: repeat\; background-attachment: scroll\; background-origin: initial\; background-clip: initial\;"><span style="color: rgb(10\, 10\, 10)\;">Jamal Khan\, Author and Founder of Jamal Khan Financial Group</span></span></a></span></span></li>\n</ul>\n\n<div style="margin-left: 15px\; font-size: 12pt\; font-family: Cambria\;"><span style="font-size: 12px\;"><span style="font-family: arial\;"><span style="border: 1pt none windowtext\; padding: 0cm\; background-image: none\; background-position: 0% 0%\; background-size: initial\; background-repeat: repeat\; background-attachment: scroll\; background-origin: initial\; background-clip: initial\;"><span style="color: rgb(10\, 10\, 10)\;">Book your seat now!</span></span></span></span></div>\n
LOCATION:Surrey Board of Trade Conference Room 101-14439 104 Avenue\, Surrey
UID:e.749.6727
SEQUENCE:3
DTSTAMP:20260421T141628Z
URL:https://business.swrbot.com/events/details/february-28-2018-estate-planning-a-guide-to-protecting-your-legacy-workshop-02-28-2018-6727
END:VEVENT

END:VCALENDAR
