BEGIN:VCALENDAR
VERSION:2.0
PRODID:-//ChamberMaster//Event Calendar 2.0//EN
METHOD:PUBLISH
X-PUBLISHED-TTL:P3D
REFRESH-INTERVAL:P3D
CALSCALE:GREGORIAN
BEGIN:VEVENT
DTSTART:20200228T200000Z
DTEND:20200228T213000Z
X-MICROSOFT-CDO-ALLDAYEVENT:FALSE
SUMMARY:February 28\, 2020 - LNG\, MINING & FORESTRY OPPORTUNITIES BC’s Natural Resource Industries
DESCRIPTION:p.p1 {margin: 0.0px 0.0px 0.0px 0.0px\; font: 12.0px 'Univers LT Std'\; min-height: 14.0px}\np.p2 {margin: 0.0px 0.0px 0.0px 0.0px\; line-height: 12.1px\; font: 11.5px 'Univers LT Std'\; color: #2c2728}\nli.li3 {margin: 0.0px 0.0px 0.0px 0.0px\; font: 11.5px 'Univers LT Std'\; color: #2c2728}\nspan.s1 {font: 12.0px 'Univers LT Std'\; color: #000000}\nol.ol1 {list-style-type: decimal}\n\nBC is home to unparalleled natural beauty and resources and a thriving economy. Natural resources are the foundation of our province. They support hundreds of thousands of jobs and generate revenues that help build infrastructure for residents.\n\n\n\nThe Honourable Bruce Ralston\, Minister of Energy\, Mines and Petroleum Resources\, will provide an update on his goals and priorities for the Ministry under his leadership. Hear from leaders in the LNG\, mining and forestry industries for a discussion on the current state of their sector\, the future of their industry\, how these three industries interconnect and the business opportunities.\n\n\n\nPANELISTS\n\n\n	Bryan Cox\, President and CEO\, BC LNG Alliance\n	Michael Goehring\, President and CEO\, Mining Association of BC\n	Susan Yurkovich\, President and CEO\, BC Council of Forest Industries\n\n\nModerated by Ken Peacock\, Chief Economist and Vice President\, Business Council of BC\n\n\n\nPLUS\, hear an overview of the BC Chamber of Commerce's BC Natural Resources Survey from President and CEO Val Litwin.\n\n\n\n\nEvent payment is due upon registration. Cancellations for event attendance\, sponsorship\, or exhibitor space will not be refunded. An event registration is considered a commitment to pay. While event registration is non-refundable\, cancellations before three full business days of the event may be eligible for a credit towards a future event. Some exclusions apply.
X-ALT-DESC;FMTTYPE=text/html:<div>\n<p class="m_663378841122995362gmail-p1" lt="" style="color: rgb(34\, 34\, 34)\; line-height: normal\; font-family:\; font-size: 12px\; font-stretch: normal\; font-variant-numeric: normal\; font-variant-east-asian: normal\;" univers="">\n<style type="text/css">p.p1 {margin: 0.0px 0.0px 0.0px 0.0px\; font: 12.0px 'Univers LT Std'\; min-height: 14.0px}\np.p2 {margin: 0.0px 0.0px 0.0px 0.0px\; line-height: 12.1px\; font: 11.5px 'Univers LT Std'\; color: #2c2728}\nli.li3 {margin: 0.0px 0.0px 0.0px 0.0px\; font: 11.5px 'Univers LT Std'\; color: #2c2728}\nspan.s1 {font: 12.0px 'Univers LT Std'\; color: #000000}\nol.ol1 {list-style-type: decimal}\n</style>\nBC is home to unparalleled natural beauty and resources and a thriving economy. Natural resources are the foundation of our province. They support hundreds of thousands of jobs and generate revenues that help build infrastructure for residents.<br />\n<br />\nThe Honourable Bruce Ralston\, Minister of Energy\, Mines and Petroleum Resources\, will provide an update on his goals and priorities for the Ministry under his leadership. Hear from leaders in the LNG\, mining and forestry industries for a discussion on the current state of their sector\, the future of their industry\, how these three industries interconnect and the business opportunities.<br />\n<br />\n<strong>PANELISTS</strong></p>\n\n<ul>\n	<li class="m_663378841122995362gmail-p1" lt="" style="color: rgb(34\, 34\, 34)\; line-height: normal\; font-size: 12px\; font-stretch: normal\; font-variant-numeric: normal\; font-variant-east-asian: normal\;" univers="">Bryan Cox\, President and CEO\, BC LNG Alliance</li>\n	<li class="m_663378841122995362gmail-p1" lt="" style="color: rgb(34\, 34\, 34)\; line-height: normal\; font-size: 12px\; font-stretch: normal\; font-variant-numeric: normal\; font-variant-east-asian: normal\;" univers="">Michael Goehring\, President and CEO\, Mining Association of BC</li>\n	<li class="m_663378841122995362gmail-p1" lt="" style="color: rgb(34\, 34\, 34)\; line-height: normal\; font-size: 12px\; font-stretch: normal\; font-variant-numeric: normal\; font-variant-east-asian: normal\;" univers="">Susan Yurkovich\, President and CEO\, BC Council of Forest Industries</li>\n</ul>\n\n<p class="m_663378841122995362gmail-p1" lt="" style="color: rgb(34\, 34\, 34)\; line-height: normal\; font-family:\; font-size: 12px\; font-stretch: normal\; font-variant-numeric: normal\; font-variant-east-asian: normal\;" univers="">Moderated by Ken Peacock\, Chief Economist and Vice President\, Business Council of BC<br />\n<br />\n<strong>PLUS\,</strong> hear an overview of the BC Chamber of Commerce&#39\;s BC Natural Resources Survey from President and CEO Val Litwin.</p>\n</div>\n\n<hr /><br />\n<span style="font-family: arial\;"><span style="font-size: 12px\;"><em><span style="color: rgb(34\, 34\, 34)\;">Event payment is due upon registration. Cancellations for event attendance\, sponsorship\, or exhibitor space will not be refunded. An event registration is considered a commitment to pay. While event registration is non-refundable\, cancellations before three full business days of the event may be eligible for a credit towards a future event. Some exclusions apply.</span></em></span></span>
LOCATION:Sheraton Vancouver Guildford Hotel 15269 104 Avenue\, Surrey
UID:e.749.10868
SEQUENCE:3
DTSTAMP:20260420T070152Z
URL:https://business.swrbot.com/events/details/february-28-2020-lng-mining-forestry-opportunities-bc-s-natural-resource-industries-02-28-2020-10868
END:VEVENT

END:VCALENDAR
