BEGIN:VCALENDAR
VERSION:2.0
PRODID:-//ChamberMaster//Event Calendar 2.0//EN
METHOD:PUBLISH
X-PUBLISHED-TTL:P3D
REFRESH-INTERVAL:P3D
CALSCALE:GREGORIAN
BEGIN:VEVENT
DTSTART:20110203T193000Z
DTEND:20110203T213000Z
X-MICROSOFT-CDO-ALLDAYEVENT:FALSE
SUMMARY:February 3\, 2011 - Economic Forecast Lunch
DESCRIPTION:FEATURING:\n\n	MICHAEL LEVY\n\n	Financial Commentator and Analyst\, CKNW\n\n	What's expected for our local\, provincial\, federal and international economies - and what that means for your business - small and large.\n\n	\n\n	DR. LINDA DUXBURY\n\n	Workplace Demographic Expert\, Carleton University\n\n	Skills shortages\, workplace demographics\, the change that is coming!
X-ALT-DESC;FMTTYPE=text/html:<p>\n	<u><strong>FEATURING:</strong></u></p>\n<p>\n	<strong>MICHAEL LEVY</strong><br />\n	Financial Commentator and Analyst\, CKNW<br />\n	What&#39\;s expected for our local\, provincial\, federal and international economies - and what that means for your business - small and large.<br />\n	<br />\n	<strong>DR. LINDA DUXBURY</strong><br />\n	Workplace Demographic Expert\, Carleton University<br />\n	Skills shortages\, workplace demographics\, the change that is coming!</p>\n
LOCATION:Sheraton Vancouver Guildford Hotel 15269 104 Avenue\, Surrey
UID:e.749.1668
SEQUENCE:3
DTSTAMP:20260422T065036Z
URL:https://business.swrbot.com/events/details/february-3-2011-economic-forecast-lunch-02-03-2011-1668
END:VEVENT

END:VCALENDAR
