BEGIN:VCALENDAR
VERSION:2.0
PRODID:-//ChamberMaster//Event Calendar 2.0//EN
METHOD:PUBLISH
X-PUBLISHED-TTL:P3D
REFRESH-INTERVAL:P3D
CALSCALE:GREGORIAN
BEGIN:VEVENT
DTSTART;VALUE=DATE:20100204
DTEND;VALUE=DATE:20100205
TRANSP:TRANSPARENT
X-MICROSOFT-CDO-ALLDAYEVENT:TRUE
SUMMARY:February 4\, 2010 - Breakfast in the City
DESCRIPTION:
X-ALT-DESC;FMTTYPE=text/html:
LOCATION:
UID:e.749.1576
SEQUENCE:3
DTSTAMP:20260423T020937Z
URL:https://business.swrbot.com/events/details/february-4-2010-breakfast-in-the-city-02-04-2010-1576
END:VEVENT

END:VCALENDAR
