BEGIN:VCALENDAR
VERSION:2.0
PRODID:-//ChamberMaster//Event Calendar 2.0//EN
METHOD:PUBLISH
X-PUBLISHED-TTL:P3D
REFRESH-INTERVAL:P3D
CALSCALE:GREGORIAN
BEGIN:VEVENT
DTSTART:20140204T193000Z
DTEND:20140204T213000Z
X-MICROSOFT-CDO-ALLDAYEVENT:FALSE
SUMMARY:February 4\, 2014 - Northern Gateway Project Lunch
DESCRIPTION:Northern Gateway Project Lunch - Pipeline Industry Series Part 3\n\n\n\nLearn about the economic impact of the Northern Gateway Project and the opportunities available for local businesses! Hear from Janet Holder\, Executive Vice President of Western Access for the Northern Gateway Project\, who was named as one of Canada's Top 100 Most Powerful Women in 2011 by the Women's Executive Network.\n\n\n\nJanet Holder\, Leader of the Northern Gateway Project\, will discuss the recent Joint Review Panel's positive recommendation to the Federal Government that Northern Gateway should be built subject to 209 conditions. Ms. Holder will speak about how this recommendation fits with Northern Gateway's plans to build a safer and better pipeline. During her remarks\, Ms. Holder will touch on issues such as environmental protection\, project benefits and First Nations engagement.\n\n\n\nPlease note: registrations at the door will be turned away. You must purchase your tickets in advance.
X-ALT-DESC;FMTTYPE=text/html:<span style="font-size:12px\;"><span style="font-family: arial\;">Northern Gateway Project Lunch - Pipeline Industry Series Part 3<br />\n<br />\nLearn about the economic impact of the Northern Gateway Project and the opportunities available for local businesses! Hear from Janet Holder\, Executive Vice President of Western Access for the Northern Gateway Project\, who was named as one of Canada&#39\;s Top 100 Most Powerful Women in 2011 by the Women&#39\;s Executive Network.<br />\n<br />\nJanet Holder\, Leader of the Northern Gateway Project\, will discuss the recent Joint Review Panel&rsquo\;s positive recommendation to the Federal Government that Northern Gateway should be built subject to 209 conditions. Ms. Holder will speak about how this recommendation fits with Northern Gateway&rsquo\;s plans to build a safer and better pipeline. During her remarks\, Ms. Holder will touch on issues such as environmental protection\, project benefits and First Nations engagement.</span></span><br />\n<br />\n<span style="color:#ff0000\;"><strong>Please note: registrations at the door will be turned away. You must purchase your tickets in advance.</strong></span>
LOCATION:Eaglequest Golf Course 7778 152 Street Surrey\, BC
UID:e.749.2507
SEQUENCE:3
DTSTAMP:20260426T010855Z
URL:https://business.swrbot.com/events/details/february-4-2014-northern-gateway-project-lunch-02-04-2014-2507
END:VEVENT

END:VCALENDAR
