BEGIN:VCALENDAR
VERSION:2.0
PRODID:-//ChamberMaster//Event Calendar 2.0//EN
METHOD:PUBLISH
X-PUBLISHED-TTL:P3D
REFRESH-INTERVAL:P3D
CALSCALE:GREGORIAN
BEGIN:VEVENT
DTSTART:20140206T193000Z
DTEND:20140206T213000Z
X-MICROSOFT-CDO-ALLDAYEVENT:FALSE
SUMMARY:February 6\, 2014 - Economic Forecast Lunch
DESCRIPTION:2014 Economic Forecast Business  Lunch\n\n\n\nKEYNOTE SPEAKER\n\n\n\nDOUGLAS PORTER\, CFA\n\nChief Economist and Managing Director\n\nBMO Capital Markets\n\n\n\nTopic: Outlook 2014: Still Hazy After All These Years\n\nWhat's expected for our local\, provincial\, federal and international economies - and what that means to your business\, and/or not-for-profit association.
X-ALT-DESC;FMTTYPE=text/html:<span style="font-family:arial\;"><span style="font-size: 12px\;"><strong>2014 Economic Forecast Business&nbsp\; Lunch</strong></span></span><br />\n<br />\nKEYNOTE SPEAKER<br />\n<br />\nDOUGLAS PORTER\, CFA<br />\nChief Economist and Managing Director<br />\nBMO Capital Markets<br />\n<br />\nTopic: Outlook 2014: Still Hazy After All These Years<br />\nWhat&rsquo\;s expected for our local\, provincial\, federal and international economies - and what that means to your business\, and/or not-for-profit association.<br />\n<br />\n<br />\n
LOCATION:Sheraton Vancouver Guildford Hotel (15269 104 Avenue\, Surrey)
UID:e.749.2408
SEQUENCE:3
DTSTAMP:20260426T010856Z
URL:https://business.swrbot.com/events/details/february-6-2014-economic-forecast-lunch-02-06-2014-2408
END:VEVENT

END:VCALENDAR
