BEGIN:VCALENDAR
VERSION:2.0
PRODID:-//ChamberMaster//Event Calendar 2.0//EN
METHOD:PUBLISH
X-PUBLISHED-TTL:P3D
REFRESH-INTERVAL:P3D
CALSCALE:GREGORIAN
BEGIN:VEVENT
DTSTART:20190207T214500Z
DTEND:20190208T010000Z
X-MICROSOFT-CDO-ALLDAYEVENT:FALSE
SUMMARY:February 7\, 2019 - Workshop: Social Purpose in Business
DESCRIPTION:Social Purpose is an emerging business trend in which companies bring their unique set of corporate assets to address social challenges and improve social conditions through their business.\n\n\n\nIf you are a for-profit business with 5 or more employees\, join us for an interactive workshop and learn how to:\n\n	Grow your business while contributing to the betterment of your community where you live\, work and operate   through your core business\n	Bullet-proof your business in the face of turbulent times\n	Apply key take-aways immediately and receive real-time feedback and ideas on ways to further social purpose in your business and communities.\n\n\nPanelists:\n\n\n	Patrick Nangle   Chief Executive Officer\, Modo\n	David Redfern   Senior Vice President\, Lafarge Western Canada\n\n\n Facilitated by the Social Purpose Institute\, this workshop will help companies recognize how they can take their CSR\, corporate affairs and community relations to the next level   towards embedding Social Purpose at their core. It can help businesses identify where they are today\, and what the benefits   and strategies   are to moving up on the continuum.\n\n \n\n\nEvent payment is due upon registration. Cancellations for event attendance\, sponsorship\, or exhibitor space will not be refunded. An event registration is considered a commitment to pay. While event registration is non-refundable\, cancellations before three full business days of the event may be eligible for a credit towards a future event. Some exclusions apply.
X-ALT-DESC;FMTTYPE=text/html:<span style="font-size:14px\;">Social Purpose is an emerging business trend in which companies bring their unique set of corporate assets to address social challenges and improve social conditions through their business.<br />\n<br />\nIf you are a for-profit business with 5 or more employees\, join us for an <a href="https://chambermaster.blob.core.windows.net/userfiles/UserFiles/chambers/749/File/209SocialPurposeinBusiness-WorkshopInvitation.pdf" target="_blank">interactive workshop</a> and learn how to:</span>\n<ul>\n	<li style="color:rgb(34\, 34\, 34)\;font-size:12pt\;font-family:Calibri\, sans-serif\;"><span style="font-size:14px\;">Grow your business&nbsp\;<span style="color:black\;"><span style="font-family:arial\,sans-serif\;">while contributing to the betterment of your community where you live</span></span><span style="font-family:arial\,sans-serif\;">\,&nbsp\;<span style="color:black\;">work</span>&nbsp\;and operate &ndash\; through your core business</span></span></li>\n	<li style="color:rgb(34\, 34\, 34)\;font-size:12pt\;font-family:Calibri\, sans-serif\;"><span style="font-size:14px\;">Bullet-proof your business in the face of turbulent times</span></li>\n	<li style="color:rgb(34\, 34\, 34)\;font-size:12pt\;font-family:Calibri\, sans-serif\;"><span style="font-size:14px\;">Apply key take-aways immediately and receive real-time feedback and ideas on ways to further social purpose in your business and communities.</span></li>\n</ul>\n\n<div style="color: rgb(34\, 34\, 34)\; font-family: Calibri\, sans-serif\;"><span style="font-size:14px\;"><b>Panelists:</b></span>\n\n<ol style="font-size: 12pt\;">\n	<li><span style="font-size:14px\;"><span style="color:#222222\;">Patrick Nangle &ndash\; Chief Executive Officer\, Modo</span></span></li>\n	<li><span style="font-size:14px\;"><span style="color:#222222\;">David Redfern &ndash\; Senior Vice President\, Lafarge Western Canada</span></span></li>\n</ol>\n</div>\n<span style="font-size:14px\;"> Facilitated by the&nbsp\;<a data-saferedirecturl="https://www.google.com/url?q=http://socialpurpose.ca/&amp\;source=gmail&amp\;ust=1546624614892000&amp\;usg=AFQjCNFRdQFyS_z1IG4KGNv3_wzScRj2zg" href="http://socialpurpose.ca/" style="color:blue\;" target="_blank">Social Purpose Institute</a>\, this workshop will help companies recognize how they can take their CSR\, corporate affairs and community relations to the next level &ndash\; towards embedding Social Purpose at their core. It can help businesses identify where they are today\, and what the benefits &ndash\; and strategies &ndash\; are to moving up on the continuum.</span><br />\n&nbsp\;\n<hr /><br />\n<em 1.6="" background-attachment:="" background-clip:="" background-image:="" background-origin:="" background-position:="" background-repeat:="" background-size:="" border-collapse:="" border-radius:="" border:="" box-shadow:="" height:="" helvetica="" left:="" line-height:="" margin:="" max-height:="" max-width:="" min-height:="" min-width:="" opacity:="" outline-offset:="" overflow-wrap:="" overflow:="" padding:="" position:="" resize:="" right:="" style="box-sizing: content-box\; bottom: auto\; clear: none\; color: rgb(10\, 10\, 10)\; content: normal\; direction: inherit\; display: inline\; empty-cells: show\; font-variant-numeric: inherit\; font-variant-east-asian: inherit\; font-stretch: inherit\; font-size: 16px\; font-family: Roboto\, Univers\, " table-layout:="" text-overflow:="" top:="" vertical-align:="" visibility:="" width:="" word-break:="" z-index:=""><span style="box-sizing: content-box\; bottom: auto\; clear: none\; color: rgb(34\, 34\, 34)\; content: normal\; direction: inherit\; empty-cells: show\; font-style: inherit\; font-variant: inherit\; font-weight: inherit\; font-stretch: inherit\; font-size: small\; font-family: Arial\, Helvetica\, sans-serif\; left: auto\; margin: 0px\; max-height: none\; max-width: none\; min-height: initial\; min-width: initial\; opacity: 1\; outline-offset: 0px\; overflow: visible\; padding: 0px\; position: static\; resize: none\; right: auto\; table-layout: auto\; text-indent: inherit\; text-overflow: clip\; text-transform: inherit\; top: auto\; vertical-align: baseline\; visibility: inherit\; white-space: inherit\; word-break: inherit\; word-spacing: inherit\; overflow-wrap: inherit\; z-index: auto\; background: none\; border: none\; border-collapse: separate\; border-radius: 0px\; height: auto\; width: auto\; box-shadow: none\; letter-spacing: 0px !important\; line-height: 1.6 !important\;">Event payment is due upon registration. Cancellations for event attendance\, sponsorship\, or exhibitor space will not be refunded. An event registration is considered a commitment to pay. While event registration is non-refundable\, cancellations before three full business days of the event may be eligible for a credit towards a future event. Some exclusions apply.</span></em>
LOCATION:Civic Hotel\, Autograph Collection Boulevard Room 13475 Central Avenue\, Surrey
UID:e.749.10073
SEQUENCE:3
DTSTAMP:20260420T232328Z
URL:https://business.swrbot.com/events/details/february-7-2019-workshop-social-purpose-in-business-02-07-2019-10073
END:VEVENT

END:VCALENDAR
