BEGIN:VCALENDAR
VERSION:2.0
PRODID:-//ChamberMaster//Event Calendar 2.0//EN
METHOD:PUBLISH
X-PUBLISHED-TTL:P3D
REFRESH-INTERVAL:P3D
CALSCALE:GREGORIAN
BEGIN:VEVENT
DTSTART:20170208T154500Z
DTEND:20170208T180000Z
X-MICROSOFT-CDO-ALLDAYEVENT:FALSE
SUMMARY:February 8\, 2017 - Creating and Delivering an Elevator Speech (That Elevates You!)
DESCRIPTION:Session 3: Creating and Delivering an Elevator Speech (That Elevates You!)\n\nWednesday\, February 8\, 2017\n\nPeople who impact others have taken the time to invest in the tools they need to tell their own stories with authority and clarity. Step into your full potential by learning how to craft an elevator speech that instills confidence and gets your goals across. \n\n\n\nThis series is presented by Margaret Page of Beyond the Page Coaching & Training Ltd. With more than thirty years of success as an entrepreneur and business leader\, Margaret Page draws on a wealth of insight\, experience and education.
X-ALT-DESC;FMTTYPE=text/html:<span style="font-family:arial\,helvetica\,sans-serif\;"><span style="font-size:small\;"><strong>Session 3: Creating and Delivering an Elevator Speech (That Elevates <em>You</em>!)</strong></span></span><br />\n<span style="font-family:arial\,helvetica\,sans-serif\;"><span style="font-size:small\;"><strong><span data-term="goog_1653197936" tabindex="0">Wednesday\, February 8\, 2017</span></strong></span></span><br />\n<span style="font-family:arial\,helvetica\,sans-serif\;"><span style="font-size:small\;">People who impact others have taken the time to invest in the tools they need to tell their own stories with authority and clarity. Step into your full potential by learning how to craft an elevator speech that instills confidence and gets your goals across. </span></span><br />\n<br />\n<i><b><span style="font-family:arial\,helvetica\,sans-serif"><font size="2"><span>This series is presented by Margaret Page of Beyond the Page Coaching &amp\; Training Ltd. </span>With more than thirty years of success as an entrepreneur and business leader\, Margaret Page draws on a wealth of insight\, experience and education.</font></span></b></i>
LOCATION:Surrey Board of Trade (101\, 14439 104 Avenue\, Surrey)
UID:e.749.5187
SEQUENCE:3
DTSTAMP:20260422T055200Z
URL:https://business.swrbot.com/events/details/february-8-2017-creating-and-delivering-an-elevator-speech-that-elevates-you-02-08-2017-5187
END:VEVENT

END:VCALENDAR
