BEGIN:VCALENDAR
VERSION:2.0
PRODID:-//ChamberMaster//Event Calendar 2.0//EN
METHOD:PUBLISH
X-PUBLISHED-TTL:P3D
REFRESH-INTERVAL:P3D
CALSCALE:GREGORIAN
BEGIN:VEVENT
DTSTART:20180208T193000Z
DTEND:20180208T213000Z
X-MICROSOFT-CDO-ALLDAYEVENT:FALSE
SUMMARY:February 8\, 2018 - Economic Forecast Lunch with Central 1 Credit Union Chief Economist\, Helmut Pastrick
DESCRIPTION:Join members of the Surrey Board of Trade\, business and industry leaders as we hear from Helmut Pastrick\, the Chief Economist of Central 1 Credit Union\, the central financial facility and trade associations for the BC and Ontario credit union systems.\n\n\n\nHear what's expected of our local\, provincial\, federal and international economies and what that means to your business or not-for-profit association.\n\n\n\nPastrick is the editor of the Economic Analysis of British Columbia and the Economic Analysis of Ontario publications. These sources provide authoritative\, unbiased analyses and insights on the provincial economy.\n\n\n\nPrior to joining the Central 1 Credit Union in 1997\, he spent many years with the Canada Mortgage and Housing Corporation in BC. He is a former President of the Association of Professional Economists of BC\, a member of the Canadian Association for Business Economics\, and the BC Economic Forecast Council.
X-ALT-DESC;FMTTYPE=text/html:Join members of the Surrey Board of Trade\, business and industry leaders as we hear from <strong>Helmut Pastrick</strong>\, the Chief Economist of Central 1 Credit Union\, the central financial facility and trade associations for the BC and Ontario credit union systems.<br />\n<br />\nHear what&rsquo\;s expected of our local\, provincial\, federal and international economies and what that means to your business or not-for-profit association.<br />\n<br />\nPastrick is the editor of the Economic Analysis of British Columbia and the Economic Analysis of Ontario publications. These sources provide authoritative\, unbiased analyses and insights on the provincial economy.<br />\n<br />\nPrior to joining the Central 1 Credit Union in 1997\, he spent many years with the Canada Mortgage and Housing Corporation in BC. He is a former President of the Association of Professional Economists of BC\, a member of the Canadian Association for Business Economics\, and the BC Economic Forecast Council.<br />\n&nbsp\;
LOCATION:Sheraton Vancouver Guildford Hotel (15269 104 Avenue\, Surrey)
UID:e.749.5472
SEQUENCE:3
DTSTAMP:20260421T142311Z
URL:https://business.swrbot.com/events/details/february-8-2018-economic-forecast-lunch-with-central-1-credit-union-chief-economist-helmut-pastrick-02-08-2018-5472
END:VEVENT

END:VCALENDAR
