BEGIN:VCALENDAR
VERSION:2.0
PRODID:-//ChamberMaster//Event Calendar 2.0//EN
METHOD:PUBLISH
X-PUBLISHED-TTL:P3D
REFRESH-INTERVAL:P3D
CALSCALE:GREGORIAN
BEGIN:VEVENT
DTSTART:20170308T014500Z
DTEND:20170308T043000Z
X-MICROSOFT-CDO-ALLDAYEVENT:FALSE
SUMMARY:Fraser Valley Estate Planning Council Dinner Meeting
DESCRIPTION:Tara Britnell\, LL.B. will speak on the topic\, "How to Cut Someone Out Of your Will." Tara Britnell is a partner at Hamilton Duncan Armstrong + Stewart in Surrey. She was called to the Bar in 1989 and practiced commercial litigation in Vancouver until joining Hamilton Duncan in 2001. There she took up the fascinating practice of estate litigation\, in which she now practices exclusively.
X-ALT-DESC;FMTTYPE=text/html:Tara Britnell\, LL.B. will speak on the topic\, &quot\;How to Cut Someone Out Of your Will.&quot\; Tara Britnell is a partner at Hamilton Duncan Armstrong + Stewart in Surrey. She was called to the Bar in 1989 and practiced commercial litigation in Vancouver until joining Hamilton Duncan in 2001. There she took up the fascinating practice of estate litigation\, in which she now practices exclusively.
LOCATION:Guildford Golf and Country Club 7929 152 Street\, Surrey
UID:e.749.5264
SEQUENCE:3
DTSTAMP:20260422T044702Z
URL:https://business.swrbot.com/events/details/fraser-valley-estate-planning-council-dinner-meeting-03-07-2017-5264
END:VEVENT

END:VCALENDAR
