BEGIN:VCALENDAR
VERSION:2.0
PRODID:-//ChamberMaster//Event Calendar 2.0//EN
METHOD:PUBLISH
X-PUBLISHED-TTL:P3D
REFRESH-INTERVAL:P3D
CALSCALE:GREGORIAN
BEGIN:VEVENT
DTSTART:20190918T004500Z
DTEND:20190918T033000Z
X-MICROSOFT-CDO-ALLDAYEVENT:FALSE
SUMMARY:Fraser Valley Estate Planning Council Dinner Meeting
DESCRIPTION:The Fraser Valley Estate Planning Council invites professionals from financial and estate planning fields to the Tuesday\, September 17\, 2019\, dinner meeting. Sharon Hartung\, Founder and Principal of Your Digital Undertaker\, will speak on the topic of Digital Estate Planning. With over 30 years of experience in IT management\, project management and consulting\, she brings a multi-disciplinary approach to better understanding the role of managing digital assets in estate planning and estate administration. Sharon has built and maintained large enterprise systems for public sector and financial clients  starting as an aerospace engineering officer with the Canadian Forces before retiring as a Captain. Joining IBM Global Services\, Sharon spent her career as an executive and consultant in Project Management. Sharon's book\, Your Digital Undertaker - Exploring Death in the Digital Age in Canada\, has recently been published. Sharon holds an MSc in Management of Information Systems\, as well as a Project Management Professional (PMP)  certification and is a Professional Engineer. Sharon is a Society of Trust and Estate Practitioners (STEP) affiliate and committee member of the STEP Global Digital Assets Special Interest Group. This event is off the record and closed to the media.
X-ALT-DESC;FMTTYPE=text/html:The Fraser Valley Estate Planning Council invites professionals from financial and estate planning fields to the Tuesday\, September 17\, 2019\, dinner meeting. Sharon Hartung\, Founder and Principal of Your Digital Undertaker\, will speak on the topic of Digital Estate Planning. With over 30 years of experience in IT management\, project management and consulting\, she brings a multi-disciplinary approach to better understanding the role of managing digital assets in estate planning and estate administration. Sharon has built and maintained large enterprise systems for public sector and financial clients&ndash\;&ndash\;starting as an aerospace engineering officer with the Canadian Forces before retiring as a Captain. Joining IBM Global Services\, Sharon spent her career as an executive and consultant in Project Management. Sharon&rsquo\;s book\, Your Digital Undertaker - Exploring Death in the Digital Age in Canada\, has recently been published. Sharon holds an MSc in Management of Information Systems\, as well as a Project Management Professional (PMP)&reg\; certification and is a Professional Engineer. Sharon is a Society of Trust and Estate Practitioners (STEP) affiliate and committee member of the STEP Global Digital Assets Special Interest Group. This event is off the record and closed to the media.
LOCATION:Guildford Golf and Country Club\, 7929 152 Street\, Surrey
UID:e.749.10604
SEQUENCE:3
DTSTAMP:20260420T140322Z
URL:https://business.swrbot.com/events/details/fraser-valley-estate-planning-council-dinner-meeting-09-17-2019-10604
END:VEVENT

END:VCALENDAR
