BEGIN:VCALENDAR
VERSION:2.0
PRODID:-//ChamberMaster//Event Calendar 2.0//EN
METHOD:PUBLISH
X-PUBLISHED-TTL:P3D
REFRESH-INTERVAL:P3D
CALSCALE:GREGORIAN
BEGIN:VEVENT
DTSTART:20170920T004500Z
DTEND:20170920T033000Z
X-MICROSOFT-CDO-ALLDAYEVENT:FALSE
SUMMARY:Fraser Valley Estate Planning Council Dinner Meeting
DESCRIPTION:The Fraser Valley Estate Planning Council invites professionals from financial and estate planning fields to the Tuesday\, September 19th dinner meeting. Emily Clough\, Clark Wilson LLP\, will speak on the topic\, "Contested Committeeships". Emily Clough is a sought-after voice\, particularly for clients with incapacity issues and to protect the rights of vulnerable adults.
X-ALT-DESC;FMTTYPE=text/html:The Fraser Valley Estate Planning Council invites professionals from financial and estate planning fields to the Tuesday\, September 19th dinner meeting. Emily Clough\, Clark Wilson LLP\, will speak on the topic\, &quot\;Contested Committeeships&quot\;. Emily Clough is a sought-after voice\, particularly for clients with incapacity issues and to protect the rights of vulnerable adults.
LOCATION:Guildford Golf and Country Club\, 7929 152 Street\, Surrey
UID:e.749.5459
SEQUENCE:3
DTSTAMP:20260421T203758Z
URL:https://business.swrbot.com/events/details/fraser-valley-estate-planning-council-dinner-meeting-09-19-2017-5459
END:VEVENT

END:VCALENDAR
