BEGIN:VCALENDAR
VERSION:2.0
PRODID:-//ChamberMaster//Event Calendar 2.0//EN
METHOD:PUBLISH
X-PUBLISHED-TTL:P3D
REFRESH-INTERVAL:P3D
CALSCALE:GREGORIAN
BEGIN:VEVENT
DTSTART:20161116T014500Z
DTEND:20161116T043000Z
X-MICROSOFT-CDO-ALLDAYEVENT:FALSE
SUMMARY:Fraser Valley Estate Planning Council Dinner Meeting
DESCRIPTION:The Fraser Valley Estate Planning Council invites professionals from financial and estate planning fields to the Tuesday\, November 15th dinner meeting. Tim Cestnick\, FCPA\, FCA\, CPA(IL)\,CFP\,TEP\, will speak on the topic\, "Lessons from the Family Office."
X-ALT-DESC;FMTTYPE=text/html:The Fraser Valley Estate Planning Council invites professionals from financial and estate planning fields to the Tuesday\, November 15th dinner meeting. Tim Cestnick\, FCPA\, FCA\, CPA(IL)\,CFP\,TEP\, will speak on the topic\, &quot\;Lessons from the Family Office.&quot\;
LOCATION:Guildford Golf and Country Club\, 7929 152 Street\, Surrey
UID:e.749.5155
SEQUENCE:3
DTSTAMP:20260422T082858Z
URL:https://business.swrbot.com/events/details/fraser-valley-estate-planning-council-dinner-meeting-11-15-2016-5155
END:VEVENT

END:VCALENDAR
