BEGIN:VCALENDAR
VERSION:2.0
PRODID:-//ChamberMaster//Event Calendar 2.0//EN
METHOD:PUBLISH
X-PUBLISHED-TTL:P3D
REFRESH-INTERVAL:P3D
CALSCALE:GREGORIAN
BEGIN:VEVENT
DTSTART:20171122T014500Z
DTEND:20171122T043000Z
X-MICROSOFT-CDO-ALLDAYEVENT:FALSE
SUMMARY:Fraser Valley Estate Planning Council Dinner Meeting
DESCRIPTION:The Fraser Valley Estate Planning Council invites professionals from financial and estate planning fields to the Tuesday\, November 21st\, dinner meeting. Barry LaValley\, Founder of The Retirement Lifestyle Center\, will speak on the topic\, "Navigating the Geriatric Labyrinth". LaValley calls the retirement life phase "Prime Time" and has developed programs that will help aging boomers clarify their vision of the future.
X-ALT-DESC;FMTTYPE=text/html:The Fraser Valley Estate Planning Council invites professionals from financial and estate planning fields to the Tuesday\, November 21st\, dinner meeting. Barry LaValley\, Founder of The Retirement Lifestyle Center\, will speak on the topic\, &ldquo\;Navigating the Geriatric Labyrinth&rdquo\;. LaValley calls the retirement life phase &ldquo\;Prime Time&rdquo\; and has developed programs that will help aging boomers clarify their vision of the future.
LOCATION:Guildford Golf and Country Club\, 7929 152 Street\, Surrey.
UID:e.749.5553
SEQUENCE:3
DTSTAMP:20260421T192448Z
URL:https://business.swrbot.com/events/details/fraser-valley-estate-planning-council-dinner-meeting-11-21-2017-5553
END:VEVENT

END:VCALENDAR
