BEGIN:VCALENDAR
VERSION:2.0
PRODID:-//ChamberMaster//Event Calendar 2.0//EN
METHOD:PUBLISH
X-PUBLISHED-TTL:P3D
REFRESH-INTERVAL:P3D
CALSCALE:GREGORIAN
BEGIN:VEVENT
DTSTART:20141007T180000Z
DTEND:20141008T010000Z
X-MICROSOFT-CDO-ALLDAYEVENT:FALSE
SUMMARY:Fraser Valley Event Show
DESCRIPTION:The Fraser Valley Event Show is coming October 7\, 2014 to Tradex in Abbotsford\, a place to meet potential suppliers\, make connections with others in the industry and keep abreast of the very latest in design\, d cor trends and technology. We have put together an amazing event - we have a speaker series\, entertainment\, a food truck competition\, bus tour\, helicopter tour and so much more! The Trade Show is also open to the general public. Anyone with a function to organize will be there -- anyone who is planning a wedding\, holiday parties\, birthday parties\, school functions\, fundraisers\, tournaments or social events. Entrepreneurs and businesses who utilize events to market their business will find this trade show a great resource. Associations and non-profit organizations will have the opportunity to make connections with fabulous vendors from the Fraser Valley and Lower Mainland! Tickets to attend are just $5 when purchased online! https://events.r20.constantcontact.com/register/eventReg?llr=sbz9z7eab&oeidk=a07e9csq99iab831126
X-ALT-DESC;FMTTYPE=text/html:The Fraser Valley Event Show is coming October 7\, 2014 to Tradex in Abbotsford\, a place to meet potential suppliers\, make connections with others in the industry and keep abreast of the very latest in design\, d&eacute\;cor trends and technology. We have put together an amazing event - we have a speaker series\, entertainment\, a food truck competition\, bus tour\, helicopter tour and so much more! The Trade Show is also open to the general public. Anyone with a function to organize will be there -- anyone who is planning a wedding\, holiday parties\, birthday parties\, school functions\, fundraisers\, tournaments or social events. Entrepreneurs and businesses who utilize events to market their business will find this trade show a great resource. Associations and non-profit organizations will have the opportunity to make connections with fabulous vendors from the Fraser Valley and Lower Mainland! Tickets to attend are just $5 when purchased online! https://events.r20.constantcontact.com/register/eventReg?llr=sbz9z7eab&amp\;oeidk=a07e9csq99iab831126
LOCATION:Tradex Trade and Convention Centre. 1190 Cornell Street\, Abbotsford
UID:e.749.2803
SEQUENCE:3
DTSTAMP:20260425T151047Z
URL:https://business.swrbot.com/events/details/fraser-valley-event-show-10-07-2014-2803
END:VEVENT

END:VCALENDAR
