BEGIN:VCALENDAR
VERSION:2.0
PRODID:-//ChamberMaster//Event Calendar 2.0//EN
METHOD:PUBLISH
X-PUBLISHED-TTL:P3D
REFRESH-INTERVAL:P3D
CALSCALE:GREGORIAN
BEGIN:VEVENT
DTSTART:20180413T143000Z
DTEND:20180413T223000Z
X-MICROSOFT-CDO-ALLDAYEVENT:FALSE
SUMMARY:Fraser Valley Legal Sympoisum for HR and Business Professionals
DESCRIPTION:CPHR BC & Yukon (Chartered Professionals in BC & Yukon) is pleased to offer a Legal Sympoisum for those in the Fraser Valley. Labour and Employment law is continuously changing and evolving. Get a clear view with expert commentary that is practical and relevant to Human Resources professionals and business leaders. Our speakers will engage you with the most recent hot-topic legal issues\, case law updates and developments\, and future trends to watch for. Topics Include: 1. Sexual Harassment Complaints are Good for Your Business 2. Treating Sick Leave as an Employer: Proof\, Privacy and Accommodation 3. Employees\, Family and Work: Human Rights & Family Status 4. Labour vs Employee Relations: Panel
X-ALT-DESC;FMTTYPE=text/html:CPHR BC &amp\; Yukon (Chartered Professionals in BC &amp\; Yukon) is pleased to offer a Legal Sympoisum for those in the Fraser Valley. Labour and Employment law is continuously changing and evolving. Get a clear view with expert commentary that is practical and relevant to Human Resources professionals and business leaders. Our speakers will engage you with the most recent hot-topic legal issues\, case law updates and developments\, and future trends to watch for. Topics Include: 1. Sexual Harassment Complaints are Good for Your Business 2. Treating Sick Leave as an Employer: Proof\, Privacy and Accommodation 3. Employees\, Family and Work: Human Rights &amp\; Family Status 4. Labour vs Employee Relations: Panel
LOCATION:Sandman Signature Langley\, 8828 201 St.\, Langley\, BC V2Y 0C8
UID:e.749.6779
SEQUENCE:3
DTSTAMP:20260421T115226Z
URL:https://business.swrbot.com/events/details/fraser-valley-legal-sympoisum-for-hr-and-business-professionals-04-13-2018-6779
END:VEVENT

END:VCALENDAR
