BEGIN:VCALENDAR
VERSION:2.0
PRODID:-//ChamberMaster//Event Calendar 2.0//EN
METHOD:PUBLISH
X-PUBLISHED-TTL:P3D
REFRESH-INTERVAL:P3D
CALSCALE:GREGORIAN
BEGIN:VEVENT
DTSTART:20150909T170000Z
DTEND:20150909T210000Z
X-MICROSOFT-CDO-ALLDAYEVENT:FALSE
SUMMARY:Free Legal Advice-a-thon - Pro Bono Going Public
DESCRIPTION:WHAT IS PRO BONO GOING PUBLIC 2015? This September\, lawyers will once again provide free legal advice in the streets of Surrey\, Vancouver\, Kelowna and Victoria - in order to raise awareness and funds for BC's pro bono programs. The free legal advice-a-thon will facilitate access to justice for low- and modest-income people\, including the homeless\, by engaging lawyers in advising pre-scheduled and drop-in clients on all legal issues. If you are in need of legal advice\, please contact 604-878-7400 to schedule an appointment\, Drop-in appointments will be based on a first-come\, first-served basis. If you are in need of legal advice\, please contact 604-878-7400 to schedule an appointment\, Drop-in appointments will be based on a first-come\, first-served basis.
X-ALT-DESC;FMTTYPE=text/html:WHAT IS PRO BONO GOING PUBLIC 2015? This September\, lawyers will once again provide free legal advice in the streets of Surrey\, Vancouver\, Kelowna and Victoria - in order to raise awareness and funds for BC&#39\;s pro bono programs. The free legal advice-a-thon will facilitate access to justice for low- and modest-income people\, including the homeless\, by engaging lawyers in advising pre-scheduled and drop-in clients on all legal issues. If you are in need of legal advice\, please contact 604-878-7400 to schedule an appointment\, Drop-in appointments will be based on a first-come\, first-served basis. If you are in need of legal advice\, please contact 604-878-7400 to schedule an appointment\, Drop-in appointments will be based on a first-come\, first-served basis.
LOCATION:Surrey City Hall - City Plaza
UID:e.749.3645
SEQUENCE:3
DTSTAMP:20260423T200720Z
URL:https://business.swrbot.com/events/details/free-legal-advice-a-thon-pro-bono-going-public-09-09-2015-3645
END:VEVENT

END:VCALENDAR
