BEGIN:VCALENDAR
VERSION:2.0
PRODID:-//ChamberMaster//Event Calendar 2.0//EN
METHOD:PUBLISH
X-PUBLISHED-TTL:P3D
REFRESH-INTERVAL:P3D
CALSCALE:GREGORIAN
BEGIN:VEVENT
DTSTART:20170609T170000Z
DTEND:20170609T190000Z
X-MICROSOFT-CDO-ALLDAYEVENT:FALSE
SUMMARY:Free Workshop: Introduction to Exporting & 10 Things a Lender Looks for
DESCRIPTION:DIVERSEcity Immigrant Entrepreneur Program Featured Workshop: Introduction to Exporting & 10 Things a Lender Looks for \nSpeakers: Sally Guo\, Account Manager\, Export Development Canada\n\nPuneet Jain\, Small Business Account Manager\, Vancity\n\n	Introduction of exporting process\n	Is your Company ready to Export? Learn about considerations and resources for your business to be export-ready\n	Balancing risks and opportunities\n	Leveraging Export Development Canada\n	Things a lender looks for in a Finance Request\n\nThe Immigrant Entrepreneur Program provides important information\, resources\, and advice for aspiring immigrant entrepreneurs.\n\n\n\nWe provide one-on-one consultations\, referrals and workshops held in English and other languages including Mandarin\, Arabic\, & Korean
X-ALT-DESC;FMTTYPE=text/html:<div class="m_6818572761973900213mn-raw m_6818572761973900213mn-print-url" style="box-sizing:content-box\;margin-bottom:1rem\;clear:none\;color:inherit\;direction:inherit\;empty-cells:show\;float:none\;font-style:inherit\;font-variant:inherit\;font-weight:inherit\;font-stretch:inherit\;max-height:none\;max-width:none\;min-height:initial\;min-width:initial\;opacity:1\;overflow:visible\;table-layout:auto\;text-indent:inherit\;text-overflow:clip\;text-transform:inherit\;vertical-align:baseline\;white-space:inherit\;word-break:inherit\;word-spacing:inherit\;word-wrap:inherit\;background:none\;border:none\;border-collapse:separate\;border-radius:0px\;height:auto\;width:auto\;margin-top:0px!important\;margin-right:0px!important\;margin-left:0px!important\;padding:0px!important\;letter-spacing:0px!important\;line-height:1.6!important"><font face="Arial" size="3">DIVERSEcity Immigrant Entrepreneur Program</font><span style="font-family:Arial\;font-size:medium\;background-color:initial\;color:inherit\;font-style:inherit\;font-variant-ligatures:inherit\;font-variant-caps:inherit\;font-weight:inherit\;letter-spacing:0px\;text-indent:inherit\;text-transform:inherit\;white-space:inherit\;word-spacing:inherit"> Featured Workshop: Introduction to Exporting &amp\; 10 Things a Lender Looks for </span></div>\nSpeakers: Sally Guo\, Account Manager\, Export Development Canada<br />\nPuneet Jain\, Small Business Account Manager\, Vancity\n<ul>\n	<li>Introduction of exporting process</li>\n	<li>Is your Company ready to Export? Learn about considerations and resources for your business to be export-ready</li>\n	<li>Balancing risks and opportunities</li>\n	<li>Leveraging Export Development Canada</li>\n	<li>Things a lender looks for in a Finance Request</li>\n</ul>\nThe Immigrant Entrepreneur Program provides important information\, resources\, and advice for aspiring immigrant entrepreneurs.<br />\n<br />\nWe provide one-on-one consultations\, referrals and workshops held in English and other languages including Mandarin\, Arabic\, &amp\; Korean<br />\n<br />\n&nbsp\;
LOCATION:Surrey City Central Public Library Room 401\, 10350 University Dr. Surrey BC
UID:e.749.5352
SEQUENCE:3
DTSTAMP:20260422T012123Z
URL:https://business.swrbot.com/events/details/free-workshop-introduction-to-exporting-10-things-a-lender-looks-for-06-09-2017-5352
END:VEVENT

END:VCALENDAR
