BEGIN:VCALENDAR
VERSION:2.0
PRODID:-//ChamberMaster//Event Calendar 2.0//EN
METHOD:PUBLISH
X-PUBLISHED-TTL:P3D
REFRESH-INTERVAL:P3D
CALSCALE:GREGORIAN
BEGIN:VEVENT
DTSTART:20170615T170000Z
DTEND:20170615T190000Z
X-MICROSOFT-CDO-ALLDAYEVENT:FALSE
SUMMARY:Free Workshop: What makes a successful business in Canada
DESCRIPTION:DIVERSEcity Immigrant Entrepreneur Program Featured Workshop: What makes a successful business in Canada * Better Business Bureau and it's services * A good business starts from people * Characteristics of successful business - Trade/Handyman business - Financial services & real estate business - Technology startups business - Retail & restaurant business This workshop will introduce Better Business Bureau (BBB) and their business accreditation process\; BBB will also share their experiences and observation of successful factors or lesson learned from numerous businesses. The Immigrant Entrepreneur Program provides important information\, resources and advice for aspiring immigrant entrepreneurs. REGISTRATION: Florence Kao\, Employment Specialist selfemployment@dcrs.ca 604-547-1662
X-ALT-DESC;FMTTYPE=text/html:DIVERSEcity Immigrant Entrepreneur Program Featured Workshop: What makes a successful business in Canada * Better Business Bureau and it&rsquo\;s services * A good business starts from people * Characteristics of successful business - Trade/Handyman business - Financial services &amp\; real estate business - Technology startups business - Retail &amp\; restaurant business This workshop will introduce Better Business Bureau (BBB) and their business accreditation process\; BBB will also share their experiences and observation of successful factors or lesson learned from numerous businesses. The Immigrant Entrepreneur Program provides important information\, resources and advice for aspiring immigrant entrepreneurs. REGISTRATION: Florence Kao\, Employment Specialist selfemployment@dcrs.ca 604-547-1662
LOCATION:Surrey City Central Public Library Room 401\, 10350 University Dr. Surrey BC
UID:e.749.5353
SEQUENCE:3
DTSTAMP:20260422T012041Z
URL:https://business.swrbot.com/events/details/free-workshop-what-makes-a-successful-business-in-canada-06-15-2017-5353
END:VEVENT

END:VCALENDAR
