BEGIN:VCALENDAR
VERSION:2.0
PRODID:-//ChamberMaster//Event Calendar 2.0//EN
METHOD:PUBLISH
X-PUBLISHED-TTL:P3D
REFRESH-INTERVAL:P3D
CALSCALE:GREGORIAN
BEGIN:VEVENT
DTSTART:20171206T160000Z
DTEND:20171206T180000Z
X-MICROSOFT-CDO-ALLDAYEVENT:FALSE
SUMMARY:Get in the Know! With Alden Habacon: Driving Organizational Change\, Fostering Inclusion\, Building Intercultural Skills & Knowledge
DESCRIPTION:For businesses\, diversity and inclusion aren't the objective. They are the means of achieving strategic goals and competitive excellence. Participants will explore the dimensions of diversity and integration of fostering intercultural workplaces. The workshops deliver an effective and interactive understanding of the essential workplace. Spend this morning session learning about the most-up to date practices and innovative policies to promote in your organization.\n\n\n\nThe Get In the Know! Workshop provides employers with:\n\n  Practical Tips on Fostering an Inclusive and Intercultural Work Environment\n\n  A Solid Understanding of the Business Benefits for Optimizing Newcomer Employment\n\n  An Understanding of How to Develop Policies and Practices that Support Cultural Diversity in the Workplace\n\n  An Introduction to the Intercultural Skills for Avoiding Misunderstanding and More Effective Communication\n\n  Tools for Building an Employee Culture that Celebrates Awareness and Interest in Cultural Diversity\n\n  Practical Tools for Effective On-boarding Newcomer Employees\n\n  Access to Community Resources that Support Immigrant Workforce Integration\n\n\n\nAbout the instructor:\n\nAlden E. Habacon is one of Canada's most dynamic and sought-after intercultural presenters and trainers\, and has been working in the area of immigrant and newcomer advancement for 12 years. He is currently the\n\nSenior Advisor\, Intercultural Understanding for the University of British Columbia. Prior to UBC\, Alden led the development and implementation of CBC's national diversity strategy\, as the Manager of Diversity Initiatives.
X-ALT-DESC;FMTTYPE=text/html:<span style="font-size:12px\;"><span style="font-family: arial\;">For businesses\, diversity and inclusion aren&rsquo\;t the objective. They are the means of achieving strategic goals and competitive excellence. Participants will explore the dimensions of diversity and integration of fostering intercultural workplaces. The workshops deliver an effective and interactive understanding of the essential workplace. Spend this morning session learning about the most-up to date practices and innovative policies to promote in your organization.<br />\n<br />\n<strong><a href="https://chambermaster.blob.core.windows.net/userfiles/UserFiles/chambers/749/File/2017GetintheKnowWithAldenHabacon.pdf">The Get In the Know! Workshop</a> provides employers with:</strong><br />\n&bull\; Practical Tips on Fostering an Inclusive and Intercultural Work Environment<br />\n&bull\; A Solid Understanding of the Business Benefits for Optimizing Newcomer Employment<br />\n&bull\; An Understanding of How to Develop Policies and Practices that Support Cultural Diversity in the Workplace<br />\n&bull\; An Introduction to the Intercultural Skills for Avoiding Misunderstanding and More Effective Communication<br />\n&bull\; Tools for Building an Employee Culture that Celebrates Awareness and Interest in Cultural Diversity<br />\n&bull\; Practical Tools for Effective On-boarding Newcomer Employees<br />\n&bull\; Access to Community Resources that Support Immigrant Workforce Integration<br />\n<br />\n<strong>About the instructor:</strong><br />\nAlden E. Habacon is one of Canada&#39\;s most dynamic and sought-after intercultural presenters and trainers\, and has been working in the area of immigrant and newcomer advancement for 12 years. He is currently the<br />\nSenior Advisor\, Intercultural Understanding for the University of British Columbia. Prior to UBC\, Alden led the development and implementation of CBC&rsquo\;s national diversity strategy\, as the Manager of Diversity Initiatives.</span></span>
LOCATION:Surrey Board of Trade (101-14439 104th Avenue\, Surrey\, V3R 1M1)
UID:e.749.5569
SEQUENCE:3
DTSTAMP:20260421T165716Z
URL:https://business.swrbot.com/events/details/get-in-the-know-with-alden-habacon-driving-organizational-change-fostering-inclusion-building-intercultural-skills-knowledge-12-06-2017-5569
END:VEVENT

END:VCALENDAR
