BEGIN:VCALENDAR
VERSION:2.0
PRODID:-//ChamberMaster//Event Calendar 2.0//EN
METHOD:PUBLISH
X-PUBLISHED-TTL:P3D
REFRESH-INTERVAL:P3D
CALSCALE:GREGORIAN
BEGIN:VEVENT
DTSTART:20150120T213000Z
DTEND:20150121T000000Z
X-MICROSOFT-CDO-ALLDAYEVENT:FALSE
SUMMARY:Get the Tech Edge: How Smart Business People Handle Technology - Workshop
DESCRIPTION:Join us for an afternoon workshop on managing technology for small businesses. Extended onto Feb 17th and Feb 25th! Special price - $25 (usually $75).
X-ALT-DESC;FMTTYPE=text/html:Join us for an afternoon workshop on managing technology for small businesses. Extended onto Feb 17th and Feb 25th! Special price - $25 (usually $75).
LOCATION:Cloverdale - 6000 Greenside Drive\, just east of 192 and 60th
UID:e.749.2867
SEQUENCE:3
DTSTAMP:20260425T111713Z
URL:https://business.swrbot.com/events/details/get-the-tech-edge-how-smart-business-people-handle-technology-workshop-01-20-2015-2867
END:VEVENT

END:VCALENDAR
