BEGIN:VCALENDAR
VERSION:2.0
PRODID:-//ChamberMaster//Event Calendar 2.0//EN
METHOD:PUBLISH
X-PUBLISHED-TTL:P3D
REFRESH-INTERVAL:P3D
CALSCALE:GREGORIAN
BEGIN:VEVENT
DTSTART:20150217T210000Z
DTEND:20150218T000000Z
X-MICROSOFT-CDO-ALLDAYEVENT:FALSE
SUMMARY:Get the Tech Edge: How Smart Business People Handle Technology - Workshop
DESCRIPTION:Back by popular demand: Join us for an afternoon workshop on managing technology for small businesses. Back by popular demand on Feb 17th and Feb 25th at the same special price of $25 (regular $75)! DETAILS available at http://www.bytesmart.ca/suptDocs/20150120-24_IntroWkshopFlyer.pdf -- REGISTER at http://www.bytesmart.ca/WkshopSignupIntroSMETechMgmnt.htm
X-ALT-DESC;FMTTYPE=text/html:Back by popular demand: Join us for an afternoon workshop on managing technology for small businesses. Back by popular demand on Feb 17th and Feb 25th at the same special price of $25 (regular $75)! DETAILS available at http://www.bytesmart.ca/suptDocs/20150120-24_IntroWkshopFlyer.pdf -- REGISTER at http://www.bytesmart.ca/WkshopSignupIntroSMETechMgmnt.htm
LOCATION:Cloverdale - 6000 Greenside Drive\, just east of 192 and 60th
UID:e.749.2883
SEQUENCE:3
DTSTAMP:20260425T111629Z
URL:https://business.swrbot.com/events/details/get-the-tech-edge-how-smart-business-people-handle-technology-workshop-02-17-2015-2883
END:VEVENT

END:VCALENDAR
