BEGIN:VCALENDAR
VERSION:2.0
PRODID:-//ChamberMaster//Event Calendar 2.0//EN
METHOD:PUBLISH
X-PUBLISHED-TTL:P3D
REFRESH-INTERVAL:P3D
CALSCALE:GREGORIAN
BEGIN:VEVENT
DTSTART:20140120T180000Z
DTEND:20140120T200000Z
X-MICROSOFT-CDO-ALLDAYEVENT:FALSE
SUMMARY:Getting to Know Your Market and Industry - Free Business Seminar
DESCRIPTION:This one hour and a half with Q&A session will provide an overview on the wide range of data products Statistics Canada offers to business entrepreneurs. Learn how to conduct basic market and industry research on Statistics Canada's website\, specifically:\n\n	  Demographic and socio-economic characteristics of local population\n\n	  Household spending patterns\n\n	  Size and sales of an industry\n\n	  Number of businesses with an industry\n\n	  Trends of selected industries\n\n	 \n\n	Speaker: Stewart Deyell\, Consulting Analyst\, Statistics Canada\n\n	Stewart Deyell is a consulting analyst with Statistics Canada. He provides individuals and organizations advice and information about the agency's vast data holdings and works with them to find data solutions in line with their budget and timeline. He graduated from the University of British Columbia with a Masters in Sociology\, where his focus was on quantitative and qualitative research methodology.
X-ALT-DESC;FMTTYPE=text/html:<p>\n	This one hour and a half with Q&amp\;A session will provide an overview on the wide range of data products Statistics Canada offers to business entrepreneurs. Learn how to conduct basic market and industry research on Statistics Canada&rsquo\;s website\, specifically:</p>\n<p>\n	&bull\; Demographic and socio-economic characteristics of local population</p>\n<p>\n	&bull\; Household spending patterns</p>\n<p>\n	&bull\; Size and sales of an industry</p>\n<p>\n	&bull\; Number of businesses with an industry</p>\n<p>\n	&bull\; Trends of selected industries</p>\n<p>\n	&nbsp\;</p>\n<p>\n	Speaker: Stewart Deyell\, Consulting Analyst\, Statistics Canada</p>\n<p>\n	Stewart Deyell is a consulting analyst with Statistics Canada. He provides individuals and organizations advice and information about the agency&rsquo\;s vast data holdings and works with them to find data solutions in line with their budget and timeline. He graduated from the University of British Columbia with a Masters in Sociology\, where his focus was on quantitative and qualitative research methodology.</p>\n
LOCATION:S.U.C.C.E.S.S. Settlement and Business Centre 570 - 1333 W Broadway\, Vancouver\, BC
UID:e.749.2529
SEQUENCE:3
DTSTAMP:20260426T022059Z
URL:https://business.swrbot.com/events/details/getting-to-know-your-market-and-industry-free-business-seminar-01-20-2014-2529
END:VEVENT

END:VCALENDAR
