BEGIN:VCALENDAR
VERSION:2.0
PRODID:-//ChamberMaster//Event Calendar 2.0//EN
METHOD:PUBLISH
X-PUBLISHED-TTL:P3D
REFRESH-INTERVAL:P3D
CALSCALE:GREGORIAN
BEGIN:VEVENT
DTSTART:20140919T210000Z
DTEND:20140920T020000Z
X-MICROSOFT-CDO-ALLDAYEVENT:FALSE
SUMMARY:Gilmour Knotts Chartered Accountants' Wacky Race and BBQ
DESCRIPTION:We invite you to the First Annual Gilmour Knotts Chartered Accountants' Wacky Race and BBQ in celebration of our 20 years in business. Race teams compete to win the total of all the registration fees as a donation to the charity of their choice. Come out and cheer on the teams and enjoy hamburgers and hotdogs by donation.
X-ALT-DESC;FMTTYPE=text/html:We invite you to the First Annual Gilmour Knotts Chartered Accountants&#39\; Wacky Race and BBQ in celebration of our 20 years in business. Race teams compete to win the total of all the registration fees as a donation to the charity of their choice. Come out and cheer on the teams and enjoy hamburgers and hotdogs by donation.
LOCATION:Willoughby Community Park at the Langley Events Centre
UID:e.749.2742
SEQUENCE:3
DTSTAMP:20260425T164023Z
URL:https://business.swrbot.com/events/details/gilmour-knotts-chartered-accountants-wacky-race-and-bbq-09-19-2014-2742
END:VEVENT

END:VCALENDAR
