BEGIN:VCALENDAR
VERSION:2.0
PRODID:-//ChamberMaster//Event Calendar 2.0//EN
METHOD:PUBLISH
X-PUBLISHED-TTL:P3D
REFRESH-INTERVAL:P3D
CALSCALE:GREGORIAN
BEGIN:VEVENT
DTSTART:20191207T180000Z
DTEND:20191216T020000Z
X-MICROSOFT-CDO-ALLDAYEVENT:FALSE
SUMMARY:Gingerbread Village 2019
DESCRIPTION:The 3rd annual Gingerbread Village contest\, hosted by the Downtown Surrey BIA is back! Make sure you come to Central City (in front of Winners) and visit Gingerbread Village from December 7 -15 to vote for your favourite gingerbread village and see what the community has created. If you smell the aromatic gingerbread\, you're in the right place!
X-ALT-DESC;FMTTYPE=text/html:The 3rd annual Gingerbread Village contest\, hosted by the Downtown Surrey BIA is back! Make sure you come to Central City (in front of Winners) and visit Gingerbread Village from December 7 -15 to vote for your favourite gingerbread village and see what the community has created. If you smell the aromatic gingerbread\, you&rsquo\;re in the right place!
LOCATION:Central City Mall - in front of Winners (10153 King George Blvd)
UID:e.749.10776
SEQUENCE:3
DTSTAMP:20260420T094314Z
URL:https://business.swrbot.com/events/details/gingerbread-village-2019-12-07-2019-10776
END:VEVENT

END:VCALENDAR
