BEGIN:VCALENDAR
VERSION:2.0
PRODID:-//ChamberMaster//Event Calendar 2.0//EN
METHOD:PUBLISH
X-PUBLISHED-TTL:P3D
REFRESH-INTERVAL:P3D
CALSCALE:GREGORIAN
BEGIN:VEVENT
DTSTART;VALUE=DATE:20170403
DTEND;VALUE=DATE:20170404
TRANSP:TRANSPARENT
X-MICROSOFT-CDO-ALLDAYEVENT:TRUE
SUMMARY:GLOBAL TRIP: DUBAI & ABU DHABI
DESCRIPTION:The Surrey Board of Trade is proud to offer opportunities to join us on global trips throughout the year. Learn more about international markets\, create new contacts and expand your business. Interested in traveling to learn more about the culture and attractions of international countries? We have opportunities for those too!
X-ALT-DESC;FMTTYPE=text/html:The Surrey Board of Trade is proud to offer opportunities to join us on global trips throughout the year. Learn more about international markets\, create new contacts and expand your business. Interested in traveling to learn more about the culture and attractions of international countries? We have opportunities for those too!
LOCATION:
UID:e.749.5141
SEQUENCE:3
DTSTAMP:20260422T023728Z
URL:https://business.swrbot.com/events/details/global-trip-dubai-abu-dhabi-04-03-2017-5141
END:VEVENT

END:VCALENDAR
