BEGIN:VCALENDAR
VERSION:2.0
PRODID:-//ChamberMaster//Event Calendar 2.0//EN
METHOD:PUBLISH
X-PUBLISHED-TTL:P3D
REFRESH-INTERVAL:P3D
CALSCALE:GREGORIAN
BEGIN:VEVENT
DTSTART:20191117T020000Z
DTEND:20191117T070000Z
X-MICROSOFT-CDO-ALLDAYEVENT:FALSE
SUMMARY:Golden Glam-Ma Pageant 2019
DESCRIPTION:The Golden Glam-ma Pageant will be an entertainment-packed\, family-friendly fundraiser to celebrate grandmothers from every walk of life! Contestants will be Grandmas who will compete for prizes by showcasing their beauty and talent\, sharing their experiences and life philosophies\, and participating in an evening of glamour and fun. Attendees will enjoy live entertainment\, prizes\, a silent auction\, face painters\, a photo booth\, dinner\, dancing and cheering on the contestants competing in this inaugural Golden Glam-Ma Pageant. All proceeds from the Golden Glam-Ma Pageant will be towards the PICS Diversity Village Project. PICS Diversity Village will be a 125-bed long term care home facility in Surrey fully equipped to care for seniors who need personalized attention in a setting designed to meet the social\, cultural and dietary needs of members of the multicultural community.
X-ALT-DESC;FMTTYPE=text/html:The Golden Glam-ma Pageant will be an entertainment-packed\, family-friendly fundraiser to celebrate grandmothers from every walk of life! Contestants will be Grandmas who will compete for prizes by showcasing their beauty and talent\, sharing their experiences and life philosophies\, and participating in an evening of glamour and fun. Attendees will enjoy live entertainment\, prizes\, a silent auction\, face painters\, a photo booth\, dinner\, dancing and cheering on the contestants competing in this inaugural Golden Glam-Ma Pageant. All proceeds from the Golden Glam-Ma Pageant will be towards the PICS Diversity Village Project. PICS Diversity Village will be a 125-bed long term care home facility in Surrey fully equipped to care for seniors who need personalized attention in a setting designed to meet the social\, cultural and dietary needs of members of the multicultural community.
LOCATION:Taj Park Convention Center 8580 132 St\, Surrey BC V3W 4N7
UID:e.749.10692
SEQUENCE:3
DTSTAMP:20260420T111406Z
URL:https://business.swrbot.com/events/details/golden-glam-ma-pageant-2019-11-16-2019-10692
END:VEVENT

END:VCALENDAR
