BEGIN:VCALENDAR
VERSION:2.0
PRODID:-//ChamberMaster//Event Calendar 2.0//EN
METHOD:PUBLISH
X-PUBLISHED-TTL:P3D
REFRESH-INTERVAL:P3D
CALSCALE:GREGORIAN
BEGIN:VEVENT
DTSTART:20170126T163000Z
DTEND:20170126T190000Z
X-MICROSOFT-CDO-ALLDAYEVENT:FALSE
SUMMARY:Google Partners Connect - Connect With Savvy Search Marketing
DESCRIPTION:The Internet provides every business with the opportunity to grow and achieve success. You're invited to attend an exclusive event brought to you by Savvy Search Marketing Ltd.\, a Google Premier Partner\, based in Surrey.\n\nGain insight about the latest trends in digital marketing that can help grow your business. Space is limited\, so secure your spot now.\n\n\n\nFor more information and to register visit : http://www.savvysearchmarketing.com/google-partners-connect/\n\n\n\nSpeakers include Liz Austin\, Agency Development Manager\, Google and Savvas Kyriakides\, CEO\, Savvy Search Marketing.
X-ALT-DESC;FMTTYPE=text/html:<p>The Internet provides every business with the opportunity to grow and achieve success. You&rsquo\;re invited to attend an exclusive event brought to you by Savvy Search Marketing Ltd.\, a Google Premier Partner\, based in Surrey.</p>\n\n<p>Gain insight about the latest trends in digital marketing that can help grow your business. Space is limited\, so secure your spot now.<br />\n<br />\n<span style="color:rgb(34\, 34\, 34)\; font-family:arial\,sans-serif\; font-size:12.8px">For more information and to register visit :&nbsp\;</span><a href="http://www.savvysearchmarketing.com/google-partners-connect/" style="color: rgb(17\, 85\, 204)\; font-family: arial\, sans-serif\; font-size: 12.8px\;" target="_blank">http://www.savvysearchmarketing.com/google-partners-connect/</a><br />\n<br />\nSpeakers include Liz Austin\,&nbsp\;Agency Development Manager\, <strong>Google</strong>&nbsp\;and Savvas Kyriakides\, CEO\, <strong>Savvy Search Marketing</strong>.<br />\n<br />\n&nbsp\;</p>\n
LOCATION:Sheraton Vancouver Guildford Hotel 15269 104 Avenue Surrey\, BC V3R 1N5
UID:e.749.5213
SEQUENCE:3
DTSTAMP:20260422T055413Z
URL:https://business.swrbot.com/events/details/google-partners-connect-connect-with-savvy-search-marketing-01-26-2017-5213
END:VEVENT

END:VCALENDAR
