BEGIN:VCALENDAR
VERSION:2.0
PRODID:-//ChamberMaster//Event Calendar 2.0//EN
METHOD:PUBLISH
X-PUBLISHED-TTL:P3D
REFRESH-INTERVAL:P3D
CALSCALE:GREGORIAN
BEGIN:VEVENT
DTSTART:20170503T153000Z
DTEND:20170503T184500Z
X-MICROSOFT-CDO-ALLDAYEVENT:FALSE
SUMMARY:Google Partners Connect Premier Event
DESCRIPTION:JOIN US FOR A GOOGLE PARTNERS CONNECT PREMIER EVENT\n\nHOSTED BY GOOGLE AND SAVVY SEARCH MARKETING\n\nAs a business owner\, you know marketing online is crucial to the success of your business\, but that the sheer number of options can be daunting.  Successful businesses know the place to start is Google\, whether advertising with Adwords PPC and/or investing in organic SEO efforts.\n\nHere's your opportunity to connect with Google & Savvy Search Marketing\, for an exclusive event. Gain insight about the latest trends in digital marketing that can help grow your business. Space is limited\, so secure your spot now.\n\nWe held a similar event in Surrey\, BC in January 2017\, and this was hugely successful with a capacity crowd of about 130 business people. Hot on the heels of this successful event\, we are very pleased to partner with Google for our second Google Partners Connect Premier Event event\, this time in Vancouver.
X-ALT-DESC;FMTTYPE=text/html:<h1>JOIN US FOR A GOOGLE PARTNERS CONNECT PREMIER EVENT</h1>\n\n<h3>HOSTED BY GOOGLE AND SAVVY SEARCH MARKETING</h3>\n\n<p>As a business owner\, you know marketing online is crucial to the success of your business\, but that the sheer number of options can be daunting. &nbsp\;Successful businesses know the place to start is Google\, whether advertising with Adwords PPC and/or investing in organic SEO efforts.</p>\n\n<p>Here&rsquo\;s your opportunity to connect with Google &amp\; Savvy Search Marketing\, for an exclusive event. Gain insight about the latest trends in digital marketing that can help grow your business. Space is limited\, so secure your spot now.</p>\n\n<p>We held a similar event in Surrey\, BC in January 2017\, and this was hugely successful with a capacity crowd of about 130 business people. Hot on the heels of this successful event\, we are very pleased to partner with Google for our second Google Partners Connect Premier Event event\, this time in Vancouver.</p>\n
LOCATION:Hyatt Regency Vancouver\, 655 Burrard St\, Vancouver\, BC V6C 2R7 The Hyatt Regency Vancouver is less than a block away from the Burrard Skytrain station.
UID:e.749.5300
SEQUENCE:3
DTSTAMP:20260422T011843Z
URL:https://business.swrbot.com/events/details/google-partners-connect-premier-event-05-03-2017-5300
END:VEVENT

END:VCALENDAR
