BEGIN:VCALENDAR
VERSION:2.0
PRODID:-//ChamberMaster//Event Calendar 2.0//EN
METHOD:PUBLISH
X-PUBLISHED-TTL:P3D
REFRESH-INTERVAL:P3D
CALSCALE:GREGORIAN
BEGIN:VEVENT
DTSTART:20170128T180000Z
DTEND:20170128T200000Z
X-MICROSOFT-CDO-ALLDAYEVENT:FALSE
SUMMARY:Groundhog Day in Newton!
DESCRIPTION:Join Lou Jack the Groundhog in the Newton Grove for a pajama party to celebrate an early Groundhogs Day! Complete with crafts\, games and hot chocolate\, the third annual Groundhog Day in Newton is sure to have something for everyone. Start the day off with a free pancake breakfast. Get a chance to learn a more about the Newton community and see if winter is ending early! Stick around for live entertainment with Ginalina and Surrey Dance Company And a pajama party wouldn't be complete without cupcakes!
X-ALT-DESC;FMTTYPE=text/html:Join Lou Jack the Groundhog in the Newton Grove for a pajama party to celebrate an early Groundhogs Day! Complete with crafts\, games and hot chocolate\, the third annual Groundhog Day in Newton is sure to have something for everyone. Start the day off with a free pancake breakfast. Get a chance to learn a more about the Newton community and see if winter is ending early! Stick around for live entertainment with Ginalina and Surrey Dance Company And a pajama party wouldn&rsquo\;t be complete without cupcakes!
LOCATION:The Newton Grove 13730 72 Avenue\, Surrey\, BC
UID:e.749.5226
SEQUENCE:3
DTSTAMP:20260422T055213Z
URL:https://business.swrbot.com/events/details/groundhog-day-in-newton-01-28-2017-5226
END:VEVENT

END:VCALENDAR
