BEGIN:VCALENDAR
VERSION:2.0
PRODID:-//ChamberMaster//Event Calendar 2.0//EN
METHOD:PUBLISH
X-PUBLISHED-TTL:P3D
REFRESH-INTERVAL:P3D
CALSCALE:GREGORIAN
BEGIN:VEVENT
DTSTART:20180921T170000Z
DTEND:20180922T000000Z
X-MICROSOFT-CDO-ALLDAYEVENT:FALSE
SUMMARY:Grow with Google
DESCRIPTION:Workshops\n\nYou can learn more about how to grow your business online\, through things like search engine optimization\, Google My Business listings\, online marketing\, using data to drive growth and more. Workshops will be in an engaging classroom setting\, where we provide laptops for you to follow along. \n\n\n\n\n\nHands-on Help\n\nWant help getting your business on the map? Need someone to show you how to use Google Spreadsheets or other GSuite tools? Come chat with Googlers\, who will be on hand to give personalized help. \n\n\n\n10:30 AM - 11:30 AM: Get Found on Google Search and Maps\n\n12:30 PM - 1:30 PM: Intro to Online Marketing\n\n2:00 PM - 3:00 PM: Using Data to Drive Growth\n\n\n\nPlease find the Surrey event site at g.co/GrowSurrey. RSVP to workshops on this site\, and learn more about what to expect at the event.
X-ALT-DESC;FMTTYPE=text/html:<div>\n<section>\n<div>\n<div>\n<h3 0px="" google="" margin:0px=""><strong>Workshops</strong></h3>\n\n<p>You can learn more about how to grow your business online\, through things like search engine optimization\, Google My Business listings\, online marketing\, using data to drive growth and more. Workshops will be in an engaging classroom setting\, where we provide laptops for you to follow along.&nbsp\;</p>\n</div>\n</div>\n</section>\n</div>\n\n<h3 0px="" google="" margin:0px=""><strong>Hands-on Help</strong></h3>\n\n<p>Want help getting your business on the map? Need someone to show you how to use Google Spreadsheets or other GSuite tools? Come chat with Googlers\, who will be on hand to give personalized help.&nbsp\;<br />\n<br />\n10:30 AM - 11:30 AM: Get Found on Google Search and Maps</p>\n\n<p>12:30 PM - 1:30 PM: Intro to Online Marketing</p>\n\n<p>2:00 PM - 3:00 PM: Using Data to Drive Growth<br />\n<br />\nPlease find the Surrey event site at&nbsp\;<a data-saferedirecturl="https://www.google.com/url?hl=en&amp\;q=http://g.co/GrowSurrey&amp\;source=gmail&amp\;ust=1534875228106000&amp\;usg=AFQjCNGy_srZJ1llKPo0_SN1-5UkX9iZFg" href="http://g.co/GrowSurrey" target="_blank">g.co/GrowSurrey</a>. RSVP to workshops on this site\, and learn more about what to expect at the event.</p>\n
LOCATION:Surrey City Centre Public Library (1350 University Dr. Surrey\, V3T 4C3)
UID:e.749.9616
SEQUENCE:3
DTSTAMP:20260421T054234Z
URL:https://business.swrbot.com/events/details/grow-with-google-09-21-2018-9616
END:VEVENT

END:VCALENDAR
