BEGIN:VCALENDAR
VERSION:2.0
PRODID:-//ChamberMaster//Event Calendar 2.0//EN
METHOD:PUBLISH
X-PUBLISHED-TTL:P3D
REFRESH-INTERVAL:P3D
CALSCALE:GREGORIAN
BEGIN:VEVENT
DTSTART:20180427T180000Z
DTEND:20180427T220000Z
X-MICROSOFT-CDO-ALLDAYEVENT:FALSE
SUMMARY:Health & Wellness Fair
DESCRIPTION:Come join our annual Health and Wellness Fair. Professional Services to answer all your health care needs. 6 speakers including Rexall on the new shingles vaccine & pneumonvax vaccine. Food & coffee trucks on site and get a first hand view inside an ambulance and what it provides for you. Get updated on the new Cannibus world or creams and lotions. Something for everyone.
X-ALT-DESC;FMTTYPE=text/html:Come join our annual Health and Wellness Fair. Professional Services to answer all your health care needs. 6 speakers including Rexall on the new shingles vaccine &amp\; pneumonvax vaccine. Food &amp\; coffee trucks on site and get a first hand view inside an ambulance and what it provides for you. Get updated on the new Cannibus world or creams and lotions. Something for everyone.
LOCATION:Laurel Place 137A Ave\, Surrey BC Accross from Surrey Memorial Hosp.
UID:e.749.6760
SEQUENCE:3
DTSTAMP:20260421T114601Z
URL:https://business.swrbot.com/events/details/health-wellness-fair-04-27-2018-6760
END:VEVENT

END:VCALENDAR
